BEGIN:VCALENDAR
VERSION:2.0
PRODID:-//Born2Brick e.V. - ECPv6.15.20//NONSGML v1.0//EN
CALSCALE:GREGORIAN
METHOD:PUBLISH
X-ORIGINAL-URL:https://born2brick.de
X-WR-CALDESC:Veranstaltungen für Born2Brick e.V.
REFRESH-INTERVAL;VALUE=DURATION:PT1H
X-Robots-Tag:noindex
X-PUBLISHED-TTL:PT1H
BEGIN:VTIMEZONE
TZID:Europe/Paris
BEGIN:DAYLIGHT
TZOFFSETFROM:+0100
TZOFFSETTO:+0200
TZNAME:CEST
DTSTART:20250330T010000
END:DAYLIGHT
BEGIN:STANDARD
TZOFFSETFROM:+0200
TZOFFSETTO:+0100
TZNAME:CET
DTSTART:20251026T010000
END:STANDARD
BEGIN:DAYLIGHT
TZOFFSETFROM:+0100
TZOFFSETTO:+0200
TZNAME:CEST
DTSTART:20260329T010000
END:DAYLIGHT
BEGIN:STANDARD
TZOFFSETFROM:+0200
TZOFFSETTO:+0100
TZNAME:CET
DTSTART:20261025T010000
END:STANDARD
BEGIN:DAYLIGHT
TZOFFSETFROM:+0100
TZOFFSETTO:+0200
TZNAME:CEST
DTSTART:20270328T010000
END:DAYLIGHT
BEGIN:STANDARD
TZOFFSETFROM:+0200
TZOFFSETTO:+0100
TZNAME:CET
DTSTART:20271031T010000
END:STANDARD
END:VTIMEZONE
BEGIN:VEVENT
DTSTART;TZID=Europe/Paris:20260116T160000
DTEND;TZID=Europe/Paris:20260116T200000
DTSTAMP:20260422T173409
CREATED:20251230T185841Z
LAST-MODIFIED:20251230T194318Z
UID:3065-1768579200-1768593600@born2brick.de
SUMMARY:Jahres-Brickoff 2026
DESCRIPTION:Feiert mit uns das neue Jahr am 16.01.2026 ab 16 Uhr in der “Steine-Kiste” in Neu-Isenburg mit Sektempfang und Einkauf in der Steine-Kiste. Ab 18 Uhr sind wir dann im Restaurant “Goldener Apfel” in Mörfelden-Walldorf.
URL:https://born2brick.de/event/jahres-brickoff-2026/
LOCATION:Hessen
CATEGORIES:Event,Shopping,Stammtisch,Versammlung
END:VEVENT
BEGIN:VEVENT
DTSTART;TZID=Europe/Paris:20260125T150000
DTEND;TZID=Europe/Paris:20260125T200000
DTSTAMP:20260422T173409
CREATED:20251230T190345Z
LAST-MODIFIED:20251230T190710Z
UID:3073-1769353200-1769371200@born2brick.de
SUMMARY:Baunachmittag und Stammtisch in Flörsheim
DESCRIPTION:Wir machen wieder unseren Baunachmittag in der “Rangierbar” im Güterschuppen des Bahnhofs Flörsheim. Bringt euch ein Set mit und baut mit uns zusammen. Danach gehen wir noch in einem Restaurant zur Abrundung des Stammtisch gemeinsam essen.
URL:https://born2brick.de/event/baunachmittag-und-stammtisch-in-floersheim/
LOCATION:Rangierbar Flörsheim\, Bahnhofstr. 2\, Flörsheim\, Hessen\, 65439\, Germany
CATEGORIES:Baunachmittag,Stammtisch
END:VEVENT
END:VCALENDAR