BEGIN:VCALENDAR
VERSION:2.0
PRODID:-//Born2Brick e.V. - ECPv6.15.20//NONSGML v1.0//EN
CALSCALE:GREGORIAN
METHOD:PUBLISH
X-WR-CALNAME:Born2Brick e.V.
X-ORIGINAL-URL:https://born2brick.de
X-WR-CALDESC:Veranstaltungen für Born2Brick e.V.
REFRESH-INTERVAL;VALUE=DURATION:PT1H
X-Robots-Tag:noindex
X-PUBLISHED-TTL:PT1H
BEGIN:VTIMEZONE
TZID:Europe/Paris
BEGIN:DAYLIGHT
TZOFFSETFROM:+0100
TZOFFSETTO:+0200
TZNAME:CEST
DTSTART:20240331T010000
END:DAYLIGHT
BEGIN:STANDARD
TZOFFSETFROM:+0200
TZOFFSETTO:+0100
TZNAME:CET
DTSTART:20241027T010000
END:STANDARD
BEGIN:DAYLIGHT
TZOFFSETFROM:+0100
TZOFFSETTO:+0200
TZNAME:CEST
DTSTART:20250330T010000
END:DAYLIGHT
BEGIN:STANDARD
TZOFFSETFROM:+0200
TZOFFSETTO:+0100
TZNAME:CET
DTSTART:20251026T010000
END:STANDARD
BEGIN:DAYLIGHT
TZOFFSETFROM:+0100
TZOFFSETTO:+0200
TZNAME:CEST
DTSTART:20260329T010000
END:DAYLIGHT
BEGIN:STANDARD
TZOFFSETFROM:+0200
TZOFFSETTO:+0100
TZNAME:CET
DTSTART:20261025T010000
END:STANDARD
END:VTIMEZONE
BEGIN:VEVENT
DTSTART;TZID=Europe/Paris:20251220T120000
DTEND;TZID=Europe/Paris:20251220T190000
DTSTAMP:20260422T190210
CREATED:20250909T201538Z
LAST-MODIFIED:20250909T201538Z
UID:2998-1766232000-1766257200@born2brick.de
SUMMARY:Griesheimer Weihnachtsmarkt 2025
DESCRIPTION:Auch dieses Jahr nehmen wir wieder mit einem LEGO-Bautisch am Weihnachtsmarkt Griesheim am Samstag\, dem 20.12.2025\, von 11-19 Uhr teil. Wir sind im Foyer vom Saalbau Griesheim zu finden. Kommt auf einen Glühwein und eine Bratwurst gerne vorbei.
URL:https://born2brick.de/event/griesheimer-weihnachtsmarkt-2025/
LOCATION:Saalbau F-Griesheim\, Schwarzerlenweg 1\, Frankfurt\, Hessen\, 65933\, Germany
CATEGORIES:Bautisch
END:VEVENT
BEGIN:VEVENT
DTSTART;TZID=Europe/Paris:20251221T150000
DTEND;TZID=Europe/Paris:20251221T180000
DTSTAMP:20260422T190210
CREATED:20250909T201847Z
LAST-MODIFIED:20250909T201847Z
UID:3001-1766329200-1766340000@born2brick.de
SUMMARY:LEGO Baunachmittag in der Rangierbar
DESCRIPTION:Am Sonntag\, den 21.12.2025\, findet von 15-18 Uhr wieder unser Baunachmittag in der Rangierbar am Bahnhof Flörsheim statt. Bitte bringt euch ein Set zum Bauen mit und meldet euch vorher über vorstand@born2brick.de an oder über unsere Whatsapp Gruppe. Danke.
URL:https://born2brick.de/event/lego-baunachmittag-in-der-rangierbar/
LOCATION:Rangierbar Flörsheim\, Bahnhofstr. 2\, Flörsheim\, Hessen\, 65439\, Germany
CATEGORIES:Baunachmittag
END:VEVENT
BEGIN:VEVENT
DTSTART;TZID=Europe/Paris:20251226T193000
DTEND;TZID=Europe/Paris:20251226T213000
DTSTAMP:20260422T190210
CREATED:20250909T202709Z
LAST-MODIFIED:20250909T202709Z
UID:3003-1766777400-1766784600@born2brick.de
SUMMARY:Online Stammtisch
DESCRIPTION:Hallo\, \nals letzte Veranstaltung dieses Jahr findet der letzte Online Stammtisch am 26. Dezember 2025 um 19:30 Uhr statt. Wir freuen uns\, wenn alle Interessierten wieder zusammenkommen. \nEinfach am genannten Termin dem Link folgen: \nJetzt an der Besprechung teilnehmen \nViel Spaß
URL:https://born2brick.de/event/online-stammtisch-3/
LOCATION:Online in Teams\, Germany
CATEGORIES:Stammtisch
END:VEVENT
END:VCALENDAR