BEGIN:VCALENDAR
VERSION:2.0
PRODID:-//Born2Brick e.V. - ECPv6.15.20//NONSGML v1.0//EN
CALSCALE:GREGORIAN
METHOD:PUBLISH
X-WR-CALNAME:Born2Brick e.V.
X-ORIGINAL-URL:https://born2brick.de
X-WR-CALDESC:Veranstaltungen für Born2Brick e.V.
REFRESH-INTERVAL;VALUE=DURATION:PT1H
X-Robots-Tag:noindex
X-PUBLISHED-TTL:PT1H
BEGIN:VTIMEZONE
TZID:Europe/Paris
BEGIN:DAYLIGHT
TZOFFSETFROM:+0100
TZOFFSETTO:+0200
TZNAME:CEST
DTSTART:20230326T010000
END:DAYLIGHT
BEGIN:STANDARD
TZOFFSETFROM:+0200
TZOFFSETTO:+0100
TZNAME:CET
DTSTART:20231029T010000
END:STANDARD
BEGIN:DAYLIGHT
TZOFFSETFROM:+0100
TZOFFSETTO:+0200
TZNAME:CEST
DTSTART:20240331T010000
END:DAYLIGHT
BEGIN:STANDARD
TZOFFSETFROM:+0200
TZOFFSETTO:+0100
TZNAME:CET
DTSTART:20241027T010000
END:STANDARD
BEGIN:DAYLIGHT
TZOFFSETFROM:+0100
TZOFFSETTO:+0200
TZNAME:CEST
DTSTART:20250330T010000
END:DAYLIGHT
BEGIN:STANDARD
TZOFFSETFROM:+0200
TZOFFSETTO:+0100
TZNAME:CET
DTSTART:20251026T010000
END:STANDARD
END:VTIMEZONE
BEGIN:VEVENT
DTSTART;TZID=Europe/Paris:20240303T160000
DTEND;TZID=Europe/Paris:20240303T200000
DTSTAMP:20260423T230842
CREATED:20231229T140358Z
LAST-MODIFIED:20240130T043733Z
UID:1995-1709481600-1709496000@born2brick.de
SUMMARY:Baunachmittag Flörsheim
DESCRIPTION:
URL:https://born2brick.de/event/interner-baunachmittag-2/
LOCATION:Rangierbar\, Deutschland
CATEGORIES:Versammlung
ATTACH;FMTTYPE=image/jpeg:https://born2brick.de/wp-content/uploads/2023/12/WhatsApp-Bild-2024-01-29-um-19.42.53_f613e80e.jpg
END:VEVENT
BEGIN:VEVENT
DTSTART;TZID=Europe/Paris:20240313T193000
DTEND;TZID=Europe/Paris:20240313T193000
DTSTAMP:20260423T230842
CREATED:20231229T135436Z
LAST-MODIFIED:20231229T135436Z
UID:1982-1710358200-1710358200@born2brick.de
SUMMARY:Vorstandssitzung
DESCRIPTION:
URL:https://born2brick.de/event/vorstandssitzung-7/
LOCATION:Hessen
END:VEVENT
BEGIN:VEVENT
DTSTART;TZID=Europe/Paris:20240322T160000
DTEND;TZID=Europe/Paris:20240322T200000
DTSTAMP:20260423T230842
CREATED:20231111T121008Z
LAST-MODIFIED:20231218T152630Z
UID:1731-1711123200-1711137600@born2brick.de
SUMMARY:Baunachmittag
DESCRIPTION:LEGO®-Baunachmittag im Saalbau Nied im Mainauen-Clubraum\, selbstverständlich öffentlich\, monatlich und kostenlos. \nMan sollte sich sein Klemmbausteinset zum Bauen selbst mitbringen oder kann mit den Vereins-Steinen kreativ bauen. Das Motto ist Treffen & Bauen und dabei Spaß haben. Wir freuen uns auf Deinen/Euren Besuch.
URL:https://born2brick.de/event/bau-stammtisch-2/
LOCATION:Saalbau Nied\, Heinrich-Stahl-Straße 3\, Frankfurt am Main\, Hessen\, 65934\, Deutschland
CATEGORIES:Stammtisch
ATTACH;FMTTYPE=image/jpeg:https://born2brick.de/wp-content/uploads/2023/11/WhatsApp-Bild-2023-12-18-um-16.23.43_58896cd3.jpg
END:VEVENT
BEGIN:VEVENT
DTSTART;VALUE=DATE:20240323
DTEND;VALUE=DATE:20240325
DTSTAMP:20260423T230842
CREATED:20231229T143403Z
LAST-MODIFIED:20231229T143403Z
UID:2020-1711152000-1711324799@born2brick.de
SUMMARY:Modellbahnwochenende mit Börse in Sachsen
DESCRIPTION:
URL:https://born2brick.de/event/modellbahnwochenende-mit-boerse-in-sachsen/
LOCATION:Altes Straßenbahndepot\, Rathausplatz 9\, Schkeuditz\, Sachsen\, 04435\, Deutschland
CATEGORIES:Ausstellung,Shopping
END:VEVENT
BEGIN:VEVENT
DTSTART;TZID=Europe/Paris:20240329T193000
DTEND;TZID=Europe/Paris:20240329T223000
DTSTAMP:20260423T230842
CREATED:20240128T153702Z
LAST-MODIFIED:20240128T154313Z
UID:2138-1711740600-1711751400@born2brick.de
SUMMARY:Stammtisch
DESCRIPTION:Externe Teilnehmer können sich unter Vorstand@Born2Brick.de anmelden.
URL:https://born2brick.de/event/stammtsich/
LOCATION:Hessen
CATEGORIES:Stammtisch
END:VEVENT
BEGIN:VEVENT
DTSTART;VALUE=DATE:20240330
DTEND;VALUE=DATE:20240401
DTSTAMP:20260423T230842
CREATED:20231229T145134Z
LAST-MODIFIED:20231229T145134Z
UID:2022-1711756800-1711929599@born2brick.de
SUMMARY:Hildesheimer Steinewelten
DESCRIPTION:
URL:https://born2brick.de/event/hildesheimer-steinewelten-3/
LOCATION:Hessen
CATEGORIES:Ausstellung
END:VEVENT
END:VCALENDAR