BEGIN:VCALENDAR
VERSION:2.0
PRODID:-//Born2Brick e.V. - ECPv6.15.20//NONSGML v1.0//EN
CALSCALE:GREGORIAN
METHOD:PUBLISH
X-ORIGINAL-URL:https://born2brick.de
X-WR-CALDESC:Veranstaltungen für Born2Brick e.V.
REFRESH-INTERVAL;VALUE=DURATION:PT1H
X-Robots-Tag:noindex
X-PUBLISHED-TTL:PT1H
BEGIN:VTIMEZONE
TZID:Europe/Paris
BEGIN:DAYLIGHT
TZOFFSETFROM:+0100
TZOFFSETTO:+0200
TZNAME:CEST
DTSTART:20230326T010000
END:DAYLIGHT
BEGIN:STANDARD
TZOFFSETFROM:+0200
TZOFFSETTO:+0100
TZNAME:CET
DTSTART:20231029T010000
END:STANDARD
BEGIN:DAYLIGHT
TZOFFSETFROM:+0100
TZOFFSETTO:+0200
TZNAME:CEST
DTSTART:20240331T010000
END:DAYLIGHT
BEGIN:STANDARD
TZOFFSETFROM:+0200
TZOFFSETTO:+0100
TZNAME:CET
DTSTART:20241027T010000
END:STANDARD
BEGIN:DAYLIGHT
TZOFFSETFROM:+0100
TZOFFSETTO:+0200
TZNAME:CEST
DTSTART:20250330T010000
END:DAYLIGHT
BEGIN:STANDARD
TZOFFSETFROM:+0200
TZOFFSETTO:+0100
TZNAME:CET
DTSTART:20251026T010000
END:STANDARD
END:VTIMEZONE
BEGIN:VEVENT
DTSTART;TZID=Europe/Paris:20240216T160000
DTEND;TZID=Europe/Paris:20240216T200000
DTSTAMP:20260424T003100
CREATED:20231111T120539Z
LAST-MODIFIED:20231218T152541Z
UID:1727-1708099200-1708113600@born2brick.de
SUMMARY:Baunachmittag
DESCRIPTION:LEGO®-Baunachmittag im Saalbau Nied im Mainauen-Clubraum\, selbstverständlich öffentlich\, monatlich und kostenlos. \nMan sollte sich sein Klemmbausteinset zum Bauen selbst mitbringen oder kann mit den Vereins-Steinen kreativ bauen. Das Motto ist Treffen & Bauen und dabei Spaß haben. Wir freuen uns auf Deinen/Euren Besuch.
URL:https://born2brick.de/event/bau-stammtisch/
LOCATION:Saalbau Nied\, Heinrich-Stahl-Straße 3\, Frankfurt am Main\, Hessen\, 65934\, Deutschland
CATEGORIES:Stammtisch
ATTACH;FMTTYPE=image/jpeg:https://born2brick.de/wp-content/uploads/2023/11/WhatsApp-Bild-2023-12-18-um-16.23.43_58896cd3.jpg
END:VEVENT
BEGIN:VEVENT
DTSTART;VALUE=DATE:20240217
DTEND;VALUE=DATE:20240219
DTSTAMP:20260424T003100
CREATED:20231229T143114Z
LAST-MODIFIED:20231229T143114Z
UID:2017-1708128000-1708300799@born2brick.de
SUMMARY:Treffpunkt Modellbau Paaren-Glien
DESCRIPTION:
URL:https://born2brick.de/event/treffpunkt-modellbau-paaren-glien/
LOCATION:Erlebnispark Paaren\, Gartenstraße 1-3\, Paaren im Glien\, Brandenburg\, 14621\, Deutschland
CATEGORIES:Ausstellung
END:VEVENT
BEGIN:VEVENT
DTSTART;TZID=Europe/Paris:20240223T193000
DTEND;TZID=Europe/Paris:20240223T223000
DTSTAMP:20260424T003100
CREATED:20240128T153617Z
LAST-MODIFIED:20240128T154145Z
UID:2136-1708716600-1708727400@born2brick.de
SUMMARY:Stammtisch
DESCRIPTION:Externe Teilnehmer können sich unter Vorstand@Born2Brick.de anmelden. \n 
URL:https://born2brick.de/event/stammtisch-12/
LOCATION:Hessen
CATEGORIES:Stammtisch
END:VEVENT
BEGIN:VEVENT
DTSTART;VALUE=DATE:20240224
DTEND;VALUE=DATE:20240226
DTSTAMP:20260424T003100
CREATED:20231229T142552Z
LAST-MODIFIED:20231229T142552Z
UID:2015-1708732800-1708905599@born2brick.de
SUMMARY:Gose Bricks
DESCRIPTION:
URL:https://born2brick.de/event/gose-bricks-3/
LOCATION:Kulturmarktplatz Goslar\, Am Museumsufer 2\, Goslar\, Niedersachsen\, 38640\, Deutschland
CATEGORIES:Ausstellung
END:VEVENT
END:VCALENDAR