BEGIN:VCALENDAR
VERSION:2.0
PRODID:-//Born2Brick e.V. - ECPv6.15.20//NONSGML v1.0//EN
CALSCALE:GREGORIAN
METHOD:PUBLISH
X-WR-CALNAME:Born2Brick e.V.
X-ORIGINAL-URL:https://born2brick.de
X-WR-CALDESC:Veranstaltungen für Born2Brick e.V.
REFRESH-INTERVAL;VALUE=DURATION:PT1H
X-Robots-Tag:noindex
X-PUBLISHED-TTL:PT1H
BEGIN:VTIMEZONE
TZID:Europe/Paris
BEGIN:DAYLIGHT
TZOFFSETFROM:+0100
TZOFFSETTO:+0200
TZNAME:CEST
DTSTART:20220327T010000
END:DAYLIGHT
BEGIN:STANDARD
TZOFFSETFROM:+0200
TZOFFSETTO:+0100
TZNAME:CET
DTSTART:20221030T010000
END:STANDARD
BEGIN:DAYLIGHT
TZOFFSETFROM:+0100
TZOFFSETTO:+0200
TZNAME:CEST
DTSTART:20230326T010000
END:DAYLIGHT
BEGIN:STANDARD
TZOFFSETFROM:+0200
TZOFFSETTO:+0100
TZNAME:CET
DTSTART:20231029T010000
END:STANDARD
BEGIN:DAYLIGHT
TZOFFSETFROM:+0100
TZOFFSETTO:+0200
TZNAME:CEST
DTSTART:20240331T010000
END:DAYLIGHT
BEGIN:STANDARD
TZOFFSETFROM:+0200
TZOFFSETTO:+0100
TZNAME:CET
DTSTART:20241027T010000
END:STANDARD
END:VTIMEZONE
BEGIN:VEVENT
DTSTART;TZID=Europe/Paris:20231202T130000
DTEND;TZID=Europe/Paris:20231202T170000
DTSTAMP:20260424T031019
CREATED:20231115T091121Z
LAST-MODIFIED:20231115T091502Z
UID:1753-1701522000-1701536400@born2brick.de
SUMMARY:Tag der Modelleisenbahn
DESCRIPTION:Eintritt: \nErwachsene: 2\,- €\nKinder: 1\,- €
URL:https://born2brick.de/event/tag-der-modelleisenbahn/
LOCATION:Friedenstraße 12\, 63165 Mühlheim am Main\, Friedenstraße 12\, Mühlheim am Main\, Hessen\, 63165\, Deutschland
CATEGORIES:Ausstellung
END:VEVENT
BEGIN:VEVENT
DTSTART;TZID=Europe/Paris:20231203T100000
DTEND;TZID=Europe/Paris:20231203T170000
DTSTAMP:20260424T031019
CREATED:20231115T091758Z
LAST-MODIFIED:20231115T091758Z
UID:1757-1701597600-1701622800@born2brick.de
SUMMARY:Tag der Modelleisenbahn
DESCRIPTION:Eintritt: \nErwachsene: 2\,- €\nKinder: 1\,- €
URL:https://born2brick.de/event/tag-der-modelleisenbahn-2/
LOCATION:Friedenstraße 12\, 63165 Mühlheim am Main\, Friedenstraße 12\, Mühlheim am Main\, Hessen\, 63165\, Deutschland
CATEGORIES:Ausstellung
END:VEVENT
BEGIN:VEVENT
DTSTART;TZID=Europe/Paris:20231209T100000
DTEND;TZID=Europe/Paris:20231209T180000
DTSTAMP:20260424T031019
CREATED:20230909T073128Z
LAST-MODIFIED:20230909T073128Z
UID:1447-1702116000-1702144800@born2brick.de
SUMMARY:Hannover Bricks
DESCRIPTION:
URL:https://born2brick.de/event/hannover-bricks/
LOCATION:Kulturzentrum Pavillon\, Lister Meile 4\, Hannover\, Niedersachsen\, 30161\, Deutschland
CATEGORIES:Ausstellung
END:VEVENT
BEGIN:VEVENT
DTSTART;TZID=Europe/Paris:20231209T110000
DTEND;TZID=Europe/Paris:20231209T160000
DTSTAMP:20260424T031019
CREATED:20231115T092137Z
LAST-MODIFIED:20231115T092227Z
UID:1760-1702119600-1702137600@born2brick.de
SUMMARY:LEGO® Börse Rheinbach
DESCRIPTION:
URL:https://born2brick.de/event/lego-boerse-rheinbach-2/
LOCATION:Stadthalle Rheinbach\, Villeneuver Straße 5\, Rheinbach\, Nordrhein-Westfalen\, 53359\, Deutschland
CATEGORIES:Shopping
END:VEVENT
BEGIN:VEVENT
DTSTART;TZID=Europe/Paris:20231210T100000
DTEND;TZID=Europe/Paris:20231210T150000
DTSTAMP:20260424T031019
CREATED:20231115T092750Z
LAST-MODIFIED:20231115T092831Z
UID:1762-1702202400-1702220400@born2brick.de
SUMMARY:Modelbaufahrtag Brunsbüttel
DESCRIPTION:
URL:https://born2brick.de/event/modelbaufahrtag-brunsbuettel/
LOCATION:Kopernikusstr. 1\, 25541 Brunsbüttel\, Kopernikusstr. 1\, Brunsbüttel\, Schleswig-Holstein\, 25541\, Deutschland
CATEGORIES:Sonstige
END:VEVENT
BEGIN:VEVENT
DTSTART;TZID=Europe/Paris:20231210T100000
DTEND;TZID=Europe/Paris:20231210T170000
DTSTAMP:20260424T031019
CREATED:20230909T073300Z
LAST-MODIFIED:20230909T073300Z
UID:1452-1702202400-1702227600@born2brick.de
SUMMARY:Hannover Bricks
DESCRIPTION:
URL:https://born2brick.de/event/hannover-bricks-2/
LOCATION:Kulturzentrum Pavillon\, Lister Meile 4\, Hannover\, Niedersachsen\, 30161\, Deutschland
CATEGORIES:Ausstellung
END:VEVENT
BEGIN:VEVENT
DTSTART;TZID=Europe/Paris:20231210T110000
DTEND;TZID=Europe/Paris:20231210T160000
DTSTAMP:20260424T031019
CREATED:20230129T131652Z
LAST-MODIFIED:20231115T092927Z
UID:567-1702206000-1702224000@born2brick.de
SUMMARY:LEGO® Börse Rheinbach
DESCRIPTION:
URL:https://born2brick.de/event/lego-boerse-rheinbach/
LOCATION:Stadthalle Rheinbach\, Villeneuver Straße 5\, Rheinbach\, Nordrhein-Westfalen\, 53359\, Deutschland
CATEGORIES:Shopping
END:VEVENT
BEGIN:VEVENT
DTSTART;TZID=Europe/Paris:20231213T193000
DTEND;TZID=Europe/Paris:20231213T220000
DTSTAMP:20260424T031019
CREATED:20230129T132059Z
LAST-MODIFIED:20230130T104716Z
UID:572-1702495800-1702504800@born2brick.de
SUMMARY:Vorstandssitzung
DESCRIPTION:
URL:https://born2brick.de/event/vorstandssitzung-5/
LOCATION:Hessen
CATEGORIES:Versammlung
END:VEVENT
BEGIN:VEVENT
DTSTART;VALUE=DATE:20231215
DTEND;VALUE=DATE:20231216
DTSTAMP:20260424T031019
CREATED:20230129T132220Z
LAST-MODIFIED:20230130T104709Z
UID:574-1702598400-1702684799@born2brick.de
SUMMARY:Anmeldeschluss LUG Showcase
DESCRIPTION:
URL:https://born2brick.de/event/anmeldeschluss-lug-showcase-4/
LOCATION:LEGO® Store Frankfurt\, Zeil 106\, Frankfurt am Main\, Hessen\, 60313\, Deutschland
CATEGORIES:Ausstellung
END:VEVENT
BEGIN:VEVENT
DTSTART;TZID=Europe/Paris:20231216T090000
DTEND;TZID=Europe/Paris:20231216T200000
DTSTAMP:20260424T031019
CREATED:20231202T174824Z
LAST-MODIFIED:20231202T174830Z
UID:1785-1702717200-1702756800@born2brick.de
SUMMARY:AFOL Shopping - LEGO® Brandstore
DESCRIPTION:weitere Infos erfolgen per Mail an alle Mitglieder.
URL:https://born2brick.de/event/afol-shopping-lego-brandstore/
LOCATION:LEGO® Store Frankfurt\, Zeil 106\, Frankfurt am Main\, Hessen\, 60313\, Deutschland
CATEGORIES:Shopping
END:VEVENT
BEGIN:VEVENT
DTSTART;TZID=Europe/Paris:20231216T140000
DTEND;TZID=Europe/Paris:20231216T220000
DTSTAMP:20260424T031019
CREATED:20231115T090328Z
LAST-MODIFIED:20231210T090417Z
UID:1747-1702735200-1702764000@born2brick.de
SUMMARY:Bautisch am Weihnachtsmarkt Griesheim
DESCRIPTION:
URL:https://born2brick.de/event/bautisch-am-weihnachtsmarkt-griesheim/
LOCATION:Saalbau Frankfurt-Griesheim\, Schwarzerlenweg/Ecke Waldschulstraße\, Frankfurt-Griesheim\, Hessen\, Deutschland
CATEGORIES:Bautisch
ATTACH;FMTTYPE=image/jpeg:https://born2brick.de/wp-content/uploads/2023/11/WhatsApp-Bild-2023-12-08-um-11.51.02_e2840fba.jpg
ORGANIZER;CN="B%C3%BCrgerverein Griesheim e.V.":MAILTO:vorstand@bvgriesheim.de
END:VEVENT
BEGIN:VEVENT
DTSTART;TZID=Europe/Paris:20231217T140000
DTEND;TZID=Europe/Paris:20231217T220000
DTSTAMP:20260424T031019
CREATED:20231210T090359Z
LAST-MODIFIED:20231210T090359Z
UID:1883-1702821600-1702850400@born2brick.de
SUMMARY:Bautisch am Weihnachtsmarkt Griesheim
DESCRIPTION:
URL:https://born2brick.de/event/bautisch-am-weihnachtsmarkt-griesheim-3/
LOCATION:Saalbau Frankfurt-Griesheim\, Schwarzerlenweg/Ecke Waldschulstraße\, Frankfurt-Griesheim\, Hessen\, Deutschland
CATEGORIES:Bautisch
ATTACH;FMTTYPE=image/jpeg:https://born2brick.de/wp-content/uploads/2023/11/WhatsApp-Bild-2023-12-08-um-11.51.02_e2840fba.jpg
ORGANIZER;CN="B%C3%BCrgerverein Griesheim e.V.":MAILTO:vorstand@bvgriesheim.de
END:VEVENT
BEGIN:VEVENT
DTSTART;TZID=Europe/Paris:20231229T193000
DTEND;TZID=Europe/Paris:20231229T220000
DTSTAMP:20260424T031019
CREATED:20230129T132413Z
LAST-MODIFIED:20230130T104659Z
UID:576-1703878200-1703887200@born2brick.de
SUMMARY:Stammtisch
DESCRIPTION:
URL:https://born2brick.de/event/stammtisch-11/
LOCATION:Hessen
CATEGORIES:Stammtisch
END:VEVENT
END:VCALENDAR