BEGIN:VCALENDAR
VERSION:2.0
PRODID:-//Born2Brick e.V. - ECPv6.15.20//NONSGML v1.0//EN
CALSCALE:GREGORIAN
METHOD:PUBLISH
X-ORIGINAL-URL:https://born2brick.de
X-WR-CALDESC:Veranstaltungen für Born2Brick e.V.
REFRESH-INTERVAL;VALUE=DURATION:PT1H
X-Robots-Tag:noindex
X-PUBLISHED-TTL:PT1H
BEGIN:VTIMEZONE
TZID:Europe/Paris
BEGIN:DAYLIGHT
TZOFFSETFROM:+0100
TZOFFSETTO:+0200
TZNAME:CEST
DTSTART:20220327T010000
END:DAYLIGHT
BEGIN:STANDARD
TZOFFSETFROM:+0200
TZOFFSETTO:+0100
TZNAME:CET
DTSTART:20221030T010000
END:STANDARD
BEGIN:DAYLIGHT
TZOFFSETFROM:+0100
TZOFFSETTO:+0200
TZNAME:CEST
DTSTART:20230326T010000
END:DAYLIGHT
BEGIN:STANDARD
TZOFFSETFROM:+0200
TZOFFSETTO:+0100
TZNAME:CET
DTSTART:20231029T010000
END:STANDARD
BEGIN:DAYLIGHT
TZOFFSETFROM:+0100
TZOFFSETTO:+0200
TZNAME:CEST
DTSTART:20240331T010000
END:DAYLIGHT
BEGIN:STANDARD
TZOFFSETFROM:+0200
TZOFFSETTO:+0100
TZNAME:CET
DTSTART:20241027T010000
END:STANDARD
END:VTIMEZONE
BEGIN:VEVENT
DTSTART;TZID=Europe/Paris:20230811T160000
DTEND;TZID=Europe/Paris:20230811T180000
DTSTAMP:20260424T085533
CREATED:20230129T121755Z
LAST-MODIFIED:20230801T040233Z
UID:512-1691769600-1691776800@born2brick.de
SUMMARY:Bauspielbahntreffen - Schkeuditz
DESCRIPTION:Eintritt:\nErwachsene: 5 Euro\nKinder unter 14 Jahre: 3 Euro
URL:https://born2brick.de/event/bauspielbahntreffen-schkeuditz/
LOCATION:Altes Straßenbahndepot\, Rathausplatz 9\, Schkeuditz\, Sachsen\, 04435\, Deutschland
CATEGORIES:Ausstellung
END:VEVENT
BEGIN:VEVENT
DTSTART;TZID=Europe/Paris:20230812T100000
DTEND;TZID=Europe/Paris:20230812T180000
DTSTAMP:20260424T085533
CREATED:20230129T122017Z
LAST-MODIFIED:20230806T111710Z
UID:514-1691834400-1691863200@born2brick.de
SUMMARY:Steine Zauber - Essen-Borbeck
DESCRIPTION:Eintritt frei
URL:https://born2brick.de/event/steine-zauber-essen-borbeck/
LOCATION:Alte Cuesterey\, Weidkamp 10\, Essen\, Nordrhein-Westfalen\, 45355\, Deutschland
CATEGORIES:Ausstellung
END:VEVENT
BEGIN:VEVENT
DTSTART;TZID=Europe/Paris:20230812T120000
DTEND;TZID=Europe/Paris:20230812T220000
DTSTAMP:20260424T085533
CREATED:20230801T035620Z
LAST-MODIFIED:20230801T040119Z
UID:1370-1691841600-1691877600@born2brick.de
SUMMARY:Bauspielbahntreffen - Schkeuditz
DESCRIPTION:Eintritt:\nErwachsene: 5 Euro\nKinder unter 14 Jahre: 3 Euro
URL:https://born2brick.de/event/bauspielbahntreffen-schkeuditz-2/
LOCATION:Altes Straßenbahndepot\, Rathausplatz 9\, Schkeuditz\, Sachsen\, 04435\, Deutschland
CATEGORIES:Ausstellung
END:VEVENT
BEGIN:VEVENT
DTSTART;TZID=Europe/Paris:20230813T100000
DTEND;TZID=Europe/Paris:20230813T160000
DTSTAMP:20260424T085533
CREATED:20230801T035904Z
LAST-MODIFIED:20230801T040200Z
UID:1373-1691920800-1691942400@born2brick.de
SUMMARY:Bauspielbahntreffen - Schkeuditz
DESCRIPTION:Eintritt:\nErwachsene: 5 Euro\nKinder unter 14 Jahre: 3 Euro
URL:https://born2brick.de/event/bauspielbahntreffen-schkeuditz-3/
LOCATION:Altes Straßenbahndepot\, Rathausplatz 9\, Schkeuditz\, Sachsen\, 04435\, Deutschland
CATEGORIES:Ausstellung
END:VEVENT
BEGIN:VEVENT
DTSTART;TZID=Europe/Paris:20230813T100000
DTEND;TZID=Europe/Paris:20230813T170000
DTSTAMP:20260424T085533
CREATED:20230806T111808Z
LAST-MODIFIED:20230806T111808Z
UID:1379-1691920800-1691946000@born2brick.de
SUMMARY:Steine Zauber - Essen-Borbeck
DESCRIPTION:Eintritt frei
URL:https://born2brick.de/event/steine-zauber-essen-borbeck-2/
LOCATION:Alte Cuesterey\, Weidkamp 10\, Essen\, Nordrhein-Westfalen\, 45355\, Deutschland
END:VEVENT
BEGIN:VEVENT
DTSTART;TZID=Europe/Paris:20230816T193000
DTEND;TZID=Europe/Paris:20230816T220000
DTSTAMP:20260424T085533
CREATED:20230129T121522Z
LAST-MODIFIED:20230806T110520Z
UID:509-1692214200-1692223200@born2brick.de
SUMMARY:Vorstandssitzung
DESCRIPTION:
URL:https://born2brick.de/event/vorstandssitzung-3/
LOCATION:Hessen
CATEGORIES:Versammlung
END:VEVENT
BEGIN:VEVENT
DTSTART;TZID=Europe/Paris:20230818T100000
DTEND;TZID=Europe/Paris:20230818T220000
DTSTAMP:20260424T085533
CREATED:20230129T122339Z
LAST-MODIFIED:20230130T105121Z
UID:516-1692352800-1692396000@born2brick.de
SUMMARY:JB's LEGO® Star Wars™ Days 2023
DESCRIPTION:
URL:https://born2brick.de/event/jbs-lego-star-wars-days-2023/
LOCATION:JB Spielwaren\, Briefangstraße 79\, Oberhausen\, Nordrhein-Westfalen\, 46149\, Deutschland
CATEGORIES:Shopping
END:VEVENT
BEGIN:VEVENT
DTSTART;TZID=Europe/Paris:20230819T100000
DTEND;TZID=Europe/Paris:20230819T180000
DTSTAMP:20260424T085533
CREATED:20230129T122722Z
LAST-MODIFIED:20230806T112442Z
UID:521-1692439200-1692468000@born2brick.de
SUMMARY:Brick's @nd Friends
DESCRIPTION:Eintritt:\nFamilie: 23\,00 € (2 Erwachsene\, 2 Kinder)\nKinder: 5\,00 € (3 bis 12 Jahre)\nErwachsene: 9\,00 €
URL:https://born2brick.de/event/bricks-nd-friends/
LOCATION:Motorworld Köln\, Butzweilerstraße 35 - 39\, Köln\, Nordrhein-Westfalen\, 50829\, Deutschland
CATEGORIES:Ausstellung
END:VEVENT
BEGIN:VEVENT
DTSTART;TZID=Europe/Paris:20230819T100000
DTEND;TZID=Europe/Paris:20230819T200000
DTSTAMP:20260424T085533
CREATED:20230129T122527Z
LAST-MODIFIED:20230130T105113Z
UID:519-1692439200-1692475200@born2brick.de
SUMMARY:JB's LEGO® Star Wars™ Days 2023
DESCRIPTION:afo
URL:https://born2brick.de/event/jbs-lego-star-wars-days-2023-2/
LOCATION:JB Spielwaren\, Briefangstraße 79\, Oberhausen\, Nordrhein-Westfalen\, 46149\, Deutschland
CATEGORIES:Shopping
END:VEVENT
BEGIN:VEVENT
DTSTART;TZID=Europe/Paris:20230820T100000
DTEND;TZID=Europe/Paris:20230820T180000
DTSTAMP:20260424T085533
CREATED:20230806T112759Z
LAST-MODIFIED:20230806T112759Z
UID:1384-1692525600-1692554400@born2brick.de
SUMMARY:Brick's @nd Friends
DESCRIPTION:Eintritt:\nFamilie: 23\,00 € (2 Erwachsene\, 2 Kinder)\nKinder: 5\,00 € (3 bis 12 Jahre)\nErwachsene: 9\,00 €
URL:https://born2brick.de/event/bricks-nd-friends-2/
LOCATION:Motorworld Köln\, Butzweilerstraße 35 - 39\, Köln\, Nordrhein-Westfalen\, 50829\, Deutschland
CATEGORIES:Ausstellung
END:VEVENT
BEGIN:VEVENT
DTSTART;TZID=Europe/Paris:20230825T193000
DTEND;TZID=Europe/Paris:20230825T220000
DTSTAMP:20260424T085533
CREATED:20230129T122919Z
LAST-MODIFIED:20230816T183410Z
UID:523-1692991800-1693000800@born2brick.de
SUMMARY:Stammtisch
DESCRIPTION:
URL:https://born2brick.de/event/stammtisch-7/
LOCATION:Hessen
CATEGORIES:Stammtisch
END:VEVENT
END:VCALENDAR