BEGIN:VCALENDAR
VERSION:2.0
PRODID:-//Born2Brick e.V. - ECPv6.15.20//NONSGML v1.0//EN
CALSCALE:GREGORIAN
METHOD:PUBLISH
X-WR-CALNAME:Born2Brick e.V.
X-ORIGINAL-URL:https://born2brick.de
X-WR-CALDESC:Veranstaltungen für Born2Brick e.V.
REFRESH-INTERVAL;VALUE=DURATION:PT1H
X-Robots-Tag:noindex
X-PUBLISHED-TTL:PT1H
BEGIN:VTIMEZONE
TZID:Europe/Paris
BEGIN:DAYLIGHT
TZOFFSETFROM:+0100
TZOFFSETTO:+0200
TZNAME:CEST
DTSTART:20220327T010000
END:DAYLIGHT
BEGIN:STANDARD
TZOFFSETFROM:+0200
TZOFFSETTO:+0100
TZNAME:CET
DTSTART:20221030T010000
END:STANDARD
BEGIN:DAYLIGHT
TZOFFSETFROM:+0100
TZOFFSETTO:+0200
TZNAME:CEST
DTSTART:20230326T010000
END:DAYLIGHT
BEGIN:STANDARD
TZOFFSETFROM:+0200
TZOFFSETTO:+0100
TZNAME:CET
DTSTART:20231029T010000
END:STANDARD
BEGIN:DAYLIGHT
TZOFFSETFROM:+0100
TZOFFSETTO:+0200
TZNAME:CEST
DTSTART:20240331T010000
END:DAYLIGHT
BEGIN:STANDARD
TZOFFSETFROM:+0200
TZOFFSETTO:+0100
TZNAME:CET
DTSTART:20241027T010000
END:STANDARD
END:VTIMEZONE
BEGIN:VEVENT
DTSTART;TZID=Europe/Paris:20230708T100000
DTEND;TZID=Europe/Paris:20230708T180000
DTSTAMP:20260424T104127
CREATED:20230126T071010Z
LAST-MODIFIED:20230130T105336Z
UID:177-1688810400-1688839200@born2brick.de
SUMMARY:Born2Brick 2023
DESCRIPTION:Zur Veranstaltungsseite: Born2Brick Rüsselsheim 2023
URL:https://born2brick.de/event/born2brick-2023/
LOCATION:Theater Rüsselsheim\, Am Treff 7\, Rüsselsheim\, 65428\, Deutschland
CATEGORIES:Ausstellung
END:VEVENT
BEGIN:VEVENT
DTSTART;TZID=Europe/Paris:20230709T100000
DTEND;TZID=Europe/Paris:20230709T180000
DTSTAMP:20260424T104127
CREATED:20230126T071051Z
LAST-MODIFIED:20230208T125654Z
UID:179-1688896800-1688925600@born2brick.de
SUMMARY:Born2Brick 2023
DESCRIPTION:Zur Veranstaltungsseite: Born2Brick Rüsselsheim 2023
URL:https://born2brick.de/event/born2brick-2023-2/
LOCATION:Theater Rüsselsheim\, Am Treff 7\, Rüsselsheim\, 65428\, Deutschland
CATEGORIES:Ausstellung
END:VEVENT
BEGIN:VEVENT
DTSTART;TZID=Europe/Paris:20230723T100000
DTEND;TZID=Europe/Paris:20230723T160000
DTSTAMP:20260424T104127
CREATED:20230506T081840Z
LAST-MODIFIED:20230703T123321Z
UID:1225-1690106400-1690128000@born2brick.de
SUMMARY:Kinderfest im historischen Bahnbetriebswerk Hanau
DESCRIPTION:Im Rahmen der “Route der Industriekultur Junior” öffnet Museum Eisenbahn e. V. am 23. Juli (10 -16 Uhr) die Tore speziell für Familien. \nKleine und großen Besucher erhalten einen Einblick in die Zeit der Dampflokomotiven. \nEs werden verschiedene Mitmach-Stationen zu erleben sein. Lasst euch überraschen! \n2023_Plakat_Kinderfest im historischen Bahnbetriebswerk Hanau
URL:https://born2brick.de/event/kinderfest-im-historischen-bahnbetriebswerk-hanau/
LOCATION:Historisches Bahnbetriebswerk Hanau\, Heideäcker 1\, Hanau-Großauheim\, Hessen\, 63457\, Deutschland
CATEGORIES:Sonstige
ATTACH;FMTTYPE=image/jpeg:https://born2brick.de/wp-content/uploads/2023/05/WhatsApp-Bild-2023-07-03-um-14.02.56.jpg
ORGANIZER;CN="museumseisenbahn-hanau":MAILTO:junior@museumseisenbahn-hanau.de
END:VEVENT
BEGIN:VEVENT
DTSTART;TZID=Europe/Paris:20230728T193000
DTEND;TZID=Europe/Paris:20230728T220000
DTSTAMP:20260424T104127
CREATED:20230129T115156Z
LAST-MODIFIED:20230130T105322Z
UID:502-1690572600-1690581600@born2brick.de
SUMMARY:Stammtisch
DESCRIPTION:
URL:https://born2brick.de/event/stammtisch-6/
LOCATION:Hessen
CATEGORIES:Stammtisch
END:VEVENT
BEGIN:VEVENT
DTSTART;TZID=Europe/Paris:20230729T103000
DTEND;TZID=Europe/Paris:20230729T180000
DTSTAMP:20260424T104127
CREATED:20230129T120104Z
LAST-MODIFIED:20230130T105238Z
UID:504-1690626600-1690653600@born2brick.de
SUMMARY:Steine! 2023
DESCRIPTION:
URL:https://born2brick.de/event/steine-2023/
LOCATION:Stadthalle Dillingen/Saar\, Pachtener Straße 13\, Dillingen/Saar\, Saarland\, 66763\, Deutschland
CATEGORIES:Ausstellung
END:VEVENT
BEGIN:VEVENT
DTSTART;TZID=Europe/Paris:20230730T093000
DTEND;TZID=Europe/Paris:20230730T173000
DTSTAMP:20260424T104127
CREATED:20230129T120306Z
LAST-MODIFIED:20230130T105209Z
UID:507-1690709400-1690738200@born2brick.de
SUMMARY:Steine! 2023
DESCRIPTION:
URL:https://born2brick.de/event/steine-2023-2/
LOCATION:Stadthalle Dillingen/Saar\, Pachtener Straße 13\, Dillingen/Saar\, Saarland\, 66763\, Deutschland
CATEGORIES:Ausstellung
END:VEVENT
END:VCALENDAR