BEGIN:VCALENDAR
VERSION:2.0
PRODID:-//Born2Brick e.V. - ECPv6.15.20//NONSGML v1.0//EN
CALSCALE:GREGORIAN
METHOD:PUBLISH
X-ORIGINAL-URL:https://born2brick.de
X-WR-CALDESC:Veranstaltungen für Born2Brick e.V.
REFRESH-INTERVAL;VALUE=DURATION:PT1H
X-Robots-Tag:noindex
X-PUBLISHED-TTL:PT1H
BEGIN:VTIMEZONE
TZID:Europe/Paris
BEGIN:DAYLIGHT
TZOFFSETFROM:+0100
TZOFFSETTO:+0200
TZNAME:CEST
DTSTART:20220327T010000
END:DAYLIGHT
BEGIN:STANDARD
TZOFFSETFROM:+0200
TZOFFSETTO:+0100
TZNAME:CET
DTSTART:20221030T010000
END:STANDARD
BEGIN:DAYLIGHT
TZOFFSETFROM:+0100
TZOFFSETTO:+0200
TZNAME:CEST
DTSTART:20230326T010000
END:DAYLIGHT
BEGIN:STANDARD
TZOFFSETFROM:+0200
TZOFFSETTO:+0100
TZNAME:CET
DTSTART:20231029T010000
END:STANDARD
BEGIN:DAYLIGHT
TZOFFSETFROM:+0100
TZOFFSETTO:+0200
TZNAME:CEST
DTSTART:20240331T010000
END:DAYLIGHT
BEGIN:STANDARD
TZOFFSETFROM:+0200
TZOFFSETTO:+0100
TZNAME:CET
DTSTART:20241027T010000
END:STANDARD
END:VTIMEZONE
BEGIN:VEVENT
DTSTART;TZID=Europe/Paris:20230401T100000
DTEND;TZID=Europe/Paris:20230401T180000
DTSTAMP:20260424T151902
CREATED:20230128T184619Z
LAST-MODIFIED:20230201T094210Z
UID:435-1680343200-1680372000@born2brick.de
SUMMARY:Hamburger Brick Börse
DESCRIPTION:
URL:https://born2brick.de/event/hamburger-brick-boerse/
LOCATION:Sasel-Haus / Hamburg\, Saseler Parkweg\, Hamburg\, Freie und Hansestadt Hamburg\, 22393
CATEGORIES:Shopping
ORGANIZER;CN="Bricks-Bramfeld Gmbh":MAILTO:info@bricks-bramfeld.de
END:VEVENT
BEGIN:VEVENT
DTSTART;TZID=Europe/Paris:20230401T110000
DTEND;TZID=Europe/Paris:20230401T160000
DTSTAMP:20260424T151903
CREATED:20230128T184936Z
LAST-MODIFIED:20230201T232931Z
UID:437-1680346800-1680364800@born2brick.de
SUMMARY:LEGO® Börse Schkeuditz
DESCRIPTION:
URL:https://born2brick.de/event/lego-boerse-schkeuditz/
LOCATION:Altes Straßenbahndepot\, Rathausplatz 9\, Schkeuditz\, Sachsen\, 04435\, Deutschland
CATEGORIES:Shopping
END:VEVENT
BEGIN:VEVENT
DTSTART;TZID=Europe/Paris:20230401T140000
DTEND;TZID=Europe/Paris:20230401T190000
DTSTAMP:20260424T151903
CREATED:20230128T185438Z
LAST-MODIFIED:20230224T115746Z
UID:445-1680357600-1680375600@born2brick.de
SUMMARY:Steineland
DESCRIPTION:
URL:https://born2brick.de/event/steineland-freisen-2/
LOCATION:Bruchwaldhalle / Freisen\, Schulstraße 60\, Freisen\, Saarland\, 66629\, Deutschland
CATEGORIES:Ausstellung
ATTACH;FMTTYPE=image/jpeg:https://born2brick.de/wp-content/uploads/2023/01/Steineland-Freisen.jpg
END:VEVENT
BEGIN:VEVENT
DTSTART;TZID=Europe/Paris:20230402T100000
DTEND;TZID=Europe/Paris:20230402T170000
DTSTAMP:20260424T151903
CREATED:20230201T094522Z
LAST-MODIFIED:20230201T094612Z
UID:908-1680429600-1680454800@born2brick.de
SUMMARY:Hamburger Brick Börse
DESCRIPTION:
URL:https://born2brick.de/event/hamburger-brick-boerse-2/
LOCATION:Sasel-Haus / Hamburg\, Saseler Parkweg\, Hamburg\, Freie und Hansestadt Hamburg\, 22393
CATEGORIES:Shopping
ORGANIZER;CN="Bricks-Bramfeld Gmbh":MAILTO:info@bricks-bramfeld.de
END:VEVENT
BEGIN:VEVENT
DTSTART;TZID=Europe/Paris:20230402T100000
DTEND;TZID=Europe/Paris:20230402T170000
DTSTAMP:20260424T151903
CREATED:20230202T095953Z
LAST-MODIFIED:20230224T115640Z
UID:933-1680429600-1680454800@born2brick.de
SUMMARY:Steineland
DESCRIPTION:
URL:https://born2brick.de/event/steineland/
LOCATION:Bruchwaldhalle / Freisen\, Schulstraße 60\, Freisen\, Saarland\, 66629\, Deutschland
CATEGORIES:Ausstellung
ATTACH;FMTTYPE=image/jpeg:https://born2brick.de/wp-content/uploads/2023/01/Steineland-Freisen.jpg
END:VEVENT
BEGIN:VEVENT
DTSTART;TZID=Europe/Paris:20230402T110000
DTEND;TZID=Europe/Paris:20230402T160000
DTSTAMP:20260424T151903
CREATED:20230201T233301Z
LAST-MODIFIED:20230201T233347Z
UID:925-1680433200-1680451200@born2brick.de
SUMMARY:LEGO® Börse Schkeuditz
DESCRIPTION:
URL:https://born2brick.de/event/lego-boerse-schkeuditz-4/
LOCATION:Altes Straßenbahndepot\, Rathausplatz 9\, Schkeuditz\, Sachsen\, 04435\, Deutschland
CATEGORIES:Shopping
END:VEVENT
BEGIN:VEVENT
DTSTART;TZID=Europe/Paris:20230408T100000
DTEND;TZID=Europe/Paris:20230408T150000
DTSTAMP:20260424T151903
CREATED:20230128T185832Z
LAST-MODIFIED:20230222T105454Z
UID:447-1680948000-1680966000@born2brick.de
SUMMARY:Bricks an der Delme
DESCRIPTION:LEGO® und Playmobil® Börse
URL:https://born2brick.de/event/lego-und-playmobil-boerse/
LOCATION:Markthalle Delmenhorst\, Rathausplatz 2\, Delmenhorst\, Niedersachsen\, 27749\, Deutschland
CATEGORIES:Shopping
END:VEVENT
BEGIN:VEVENT
DTSTART;TZID=Europe/Paris:20230415T100000
DTEND;TZID=Europe/Paris:20230415T180000
DTSTAMP:20260424T151903
CREATED:20230128T190255Z
LAST-MODIFIED:20230201T110150Z
UID:452-1681552800-1681581600@born2brick.de
SUMMARY:Bricks am Meer
DESCRIPTION:
URL:https://born2brick.de/event/bricks-am-meer/
LOCATION:Wandelhalle / Bad Zwischenahn\, Auf dem hohen Ufer 24\, Bad Zwischenahn\, Niedersachsen\, 26160\, Deutschland
CATEGORIES:Ausstellung
ORGANIZER;CN="Bricks am Meer":MAILTO:webmaster@bricks-am-meer.de
END:VEVENT
BEGIN:VEVENT
DTSTART;TZID=Europe/Paris:20230416T100000
DTEND;TZID=Europe/Paris:20230416T170000
DTSTAMP:20260424T151903
CREATED:20230201T110105Z
LAST-MODIFIED:20230201T110105Z
UID:922-1681639200-1681664400@born2brick.de
SUMMARY:Bricks am Meer
DESCRIPTION:
URL:https://born2brick.de/event/bricks-am-meer-2/
LOCATION:Wandelhalle / Bad Zwischenahn\, Auf dem hohen Ufer 24\, Bad Zwischenahn\, Niedersachsen\, 26160\, Deutschland
CATEGORIES:Ausstellung
ORGANIZER;CN="Bricks am Meer":MAILTO:webmaster@bricks-am-meer.de
END:VEVENT
BEGIN:VEVENT
DTSTART;TZID=Europe/Paris:20230420T090000
DTEND;TZID=Europe/Paris:20230420T180000
DTSTAMP:20260424T151903
CREATED:20230128T190434Z
LAST-MODIFIED:20230207T095509Z
UID:454-1681981200-1682013600@born2brick.de
SUMMARY:LEGO® Fan Ausstellung des MBFR
DESCRIPTION:
URL:https://born2brick.de/event/lego-fan-ausstellung-des-mbfr-dortmund/
LOCATION:Messe Dortmund GmbH / Halle 8\, Strobelallee 45\, Dortmund\, Nordrhein-Westfalen\, 44139\, Deutschland
CATEGORIES:Ausstellung
END:VEVENT
BEGIN:VEVENT
DTSTART;TZID=Europe/Paris:20230421T090000
DTEND;TZID=Europe/Paris:20230421T180000
DTSTAMP:20260424T151903
CREATED:20230207T095409Z
LAST-MODIFIED:20230207T100109Z
UID:942-1682067600-1682100000@born2brick.de
SUMMARY:LEGO® Fan Ausstellung des MBFR
DESCRIPTION:
URL:https://born2brick.de/event/lego-fan-ausstellung-des-mbfr/
LOCATION:Messe Dortmund GmbH / Halle 8\, Strobelallee 45\, Dortmund\, Nordrhein-Westfalen\, 44139\, Deutschland
CATEGORIES:Ausstellung
END:VEVENT
BEGIN:VEVENT
DTSTART;TZID=Europe/Paris:20230422T090000
DTEND;TZID=Europe/Paris:20230422T180000
DTSTAMP:20260424T151903
CREATED:20230207T095611Z
LAST-MODIFIED:20230207T095611Z
UID:948-1682154000-1682186400@born2brick.de
SUMMARY:LEGO® Fan Ausstellung des MBFR
DESCRIPTION:
URL:https://born2brick.de/event/lego-fan-ausstellung-des-mbfr-2/
LOCATION:Messe Dortmund GmbH / Halle 8\, Strobelallee 45\, Dortmund\, Nordrhein-Westfalen\, 44139\, Deutschland
CATEGORIES:Ausstellung
END:VEVENT
BEGIN:VEVENT
DTSTART;TZID=Europe/Paris:20230422T093000
DTEND;TZID=Europe/Paris:20230422T180000
DTSTAMP:20260424T151903
CREATED:20230128T190803Z
LAST-MODIFIED:20230130T105729Z
UID:456-1682155800-1682186400@born2brick.de
SUMMARY:SteinHanse
DESCRIPTION:
URL:https://born2brick.de/event/steinhanse/
LOCATION:Marschweg 18\, 24568 Kaltenkirchen\, Deutschland\, Marschweg 8\, Kaltenkirchen\, Schleswig-Holstein\, 24568\, Deutschland
CATEGORIES:Ausstellung
END:VEVENT
BEGIN:VEVENT
DTSTART;TZID=Europe/Paris:20230423T090000
DTEND;TZID=Europe/Paris:20230423T170000
DTSTAMP:20260424T151903
CREATED:20230207T100242Z
LAST-MODIFIED:20230207T100242Z
UID:952-1682240400-1682269200@born2brick.de
SUMMARY:LEGO® Fan Ausstellung des MBFR
DESCRIPTION:
URL:https://born2brick.de/event/lego-fan-ausstellung-des-mbfr-3/
LOCATION:Messe Dortmund GmbH / Halle 8\, Strobelallee 45\, Dortmund\, Nordrhein-Westfalen\, 44139\, Deutschland
CATEGORIES:Ausstellung
END:VEVENT
BEGIN:VEVENT
DTSTART;TZID=Europe/Paris:20230423T093000
DTEND;TZID=Europe/Paris:20230423T170000
DTSTAMP:20260424T151903
CREATED:20230128T191047Z
LAST-MODIFIED:20230130T105724Z
UID:459-1682242200-1682269200@born2brick.de
SUMMARY:SteinHanse
DESCRIPTION:
URL:https://born2brick.de/event/steinhanse-2/
LOCATION:Marschweg 18\, 24568 Kaltenkirchen\, Deutschland\, Marschweg 8\, Kaltenkirchen\, Schleswig-Holstein\, 24568\, Deutschland
CATEGORIES:Ausstellung
END:VEVENT
BEGIN:VEVENT
DTSTART;TZID=Europe/Paris:20230428T193000
DTEND;TZID=Europe/Paris:20230428T220000
DTSTAMP:20260424T151903
CREATED:20230129T103954Z
LAST-MODIFIED:20230130T105719Z
UID:487-1682710200-1682719200@born2brick.de
SUMMARY:Stammtisch
DESCRIPTION:
URL:https://born2brick.de/event/stammtisch-2/
LOCATION:Hessen
CATEGORIES:Stammtisch
END:VEVENT
BEGIN:VEVENT
DTSTART;TZID=Europe/Paris:20230429T100000
DTEND;TZID=Europe/Paris:20230429T170000
DTSTAMP:20260424T151903
CREATED:20230128T191413Z
LAST-MODIFIED:20230408T075136Z
UID:461-1682762400-1682787600@born2brick.de
SUMMARY:Ausstellung - Modellbahn aus LEGO®-Steinen
DESCRIPTION:
URL:https://born2brick.de/event/noppenbahner-spur-l-treffen-woerrstadt-bei-mainz/
LOCATION:Neubornhalle\, Jahnstraße 15\, Wörrstadt\, Rheinland-Pfalz\, 55286\, Deutschland
CATEGORIES:Ausstellung
END:VEVENT
BEGIN:VEVENT
DTSTART;TZID=Europe/Paris:20230429T120000
DTEND;TZID=Europe/Paris:20230429T180000
DTSTAMP:20260424T151903
CREATED:20230317T045115Z
LAST-MODIFIED:20230317T045115Z
UID:1066-1682769600-1682791200@born2brick.de
SUMMARY:Schwarzwälder Klötzlestage
DESCRIPTION:
URL:https://born2brick.de/event/schwarzwaelder-kloetzlestage/
LOCATION:Forum König-Karls-Bad\, 75323 Bad Wildbad\, Forum König-Karls-Bad\, Bad Wildbad\, Baden-Württemberg\, 75323\, Deutschland
CATEGORIES:Ausstellung
END:VEVENT
BEGIN:VEVENT
DTSTART;TZID=Europe/Paris:20230430T100000
DTEND;TZID=Europe/Paris:20230430T160000
DTSTAMP:20260424T151903
CREATED:20230408T075013Z
LAST-MODIFIED:20230408T075013Z
UID:1122-1682848800-1682870400@born2brick.de
SUMMARY:Ausstellung - Modellbahn aus LEGO®-Steinen
DESCRIPTION:
URL:https://born2brick.de/event/ausstellung-modellbahn-aus-lego-steinen/
LOCATION:Neubornhalle\, Jahnstraße 15\, Wörrstadt\, Rheinland-Pfalz\, 55286\, Deutschland
CATEGORIES:Ausstellung
END:VEVENT
BEGIN:VEVENT
DTSTART;TZID=Europe/Paris:20230430T100000
DTEND;TZID=Europe/Paris:20230430T180000
DTSTAMP:20260424T151903
CREATED:20230317T045230Z
LAST-MODIFIED:20230317T045230Z
UID:1069-1682848800-1682877600@born2brick.de
SUMMARY:Schwarzwälder Klötzlestage
DESCRIPTION:
URL:https://born2brick.de/event/schwarzwaelder-kloetzlestage-2/
LOCATION:Forum König-Karls-Bad\, 75323 Bad Wildbad\, Forum König-Karls-Bad\, Bad Wildbad\, Baden-Württemberg\, 75323\, Deutschland
CATEGORIES:Ausstellung
END:VEVENT
BEGIN:VEVENT
DTSTART;TZID=Europe/Paris:20230430T110000
DTEND;TZID=Europe/Paris:20230430T160000
DTSTAMP:20260424T151903
CREATED:20230128T191702Z
LAST-MODIFIED:20230201T094659Z
UID:463-1682852400-1682870400@born2brick.de
SUMMARY:LEGO® Börse
DESCRIPTION:
URL:https://born2brick.de/event/lego-boerse/
LOCATION:Stadthalle Rheinbach\, Villeneuver Straße 5\, Rheinbach\, Nordrhein-Westfalen\, 53359\, Deutschland
CATEGORIES:Shopping
END:VEVENT
BEGIN:VEVENT
DTSTART;TZID=Europe/Paris:20230430T170000
DTEND;TZID=Europe/Paris:20230430T235900
DTSTAMP:20260424T151903
CREATED:20230129T101533Z
LAST-MODIFIED:20230429T135330Z
UID:466-1682874000-1682899140@born2brick.de
SUMMARY:Grillevent mit Lauter Steine e.V.
DESCRIPTION:Die RLUG Lauter Steine e.V. freuen sich auf einen schönen Tag mit uns.
URL:https://born2brick.de/event/grillevent-mit-lauter-steine-e-v/
LOCATION:Hessen
CATEGORIES:Stammtisch,Versammlung
ORGANIZER;CN="Lauter Steine e.V.":MAILTO:info@lautersteine.de
END:VEVENT
END:VCALENDAR