BEGIN:VCALENDAR
VERSION:2.0
PRODID:-//Born2Brick e.V. - ECPv6.15.20//NONSGML v1.0//EN
CALSCALE:GREGORIAN
METHOD:PUBLISH
X-WR-CALNAME:Born2Brick e.V.
X-ORIGINAL-URL:https://born2brick.de
X-WR-CALDESC:Veranstaltungen für Born2Brick e.V.
REFRESH-INTERVAL;VALUE=DURATION:PT1H
X-Robots-Tag:noindex
X-PUBLISHED-TTL:PT1H
BEGIN:VTIMEZONE
TZID:Europe/Paris
BEGIN:DAYLIGHT
TZOFFSETFROM:+0100
TZOFFSETTO:+0200
TZNAME:CEST
DTSTART:20250330T010000
END:DAYLIGHT
BEGIN:STANDARD
TZOFFSETFROM:+0200
TZOFFSETTO:+0100
TZNAME:CET
DTSTART:20251026T010000
END:STANDARD
BEGIN:DAYLIGHT
TZOFFSETFROM:+0100
TZOFFSETTO:+0200
TZNAME:CEST
DTSTART:20260329T010000
END:DAYLIGHT
BEGIN:STANDARD
TZOFFSETFROM:+0200
TZOFFSETTO:+0100
TZNAME:CET
DTSTART:20261025T010000
END:STANDARD
BEGIN:DAYLIGHT
TZOFFSETFROM:+0100
TZOFFSETTO:+0200
TZNAME:CEST
DTSTART:20270328T010000
END:DAYLIGHT
BEGIN:STANDARD
TZOFFSETFROM:+0200
TZOFFSETTO:+0100
TZNAME:CET
DTSTART:20271031T010000
END:STANDARD
END:VTIMEZONE
BEGIN:VEVENT
DTSTART;TZID=Europe/Paris:20260503T110000
DTEND;TZID=Europe/Paris:20260503T180000
DTSTAMP:20260422T124248
CREATED:20251230T194836Z
LAST-MODIFIED:20251230T194836Z
UID:3102-1777806000-1777831200@born2brick.de
SUMMARY:Modellbautag Feldbahnmuseum
DESCRIPTION:Beim Modellbautag im Frankfurter Feldbahnmuseum sind wir mit einem Lego-Bautisch dabei. Komm vorbei uns baue mit unseren 10.000 Steinen
URL:https://born2brick.de/event/modellbautag-feldbahnmuseum/
LOCATION:Frankfurter Feldbahnmuseum\, Am Römerhof 15f\, Frankfurt am Main\, Hessen\, 60486\, Deutschland
CATEGORIES:Bautisch
END:VEVENT
END:VCALENDAR