BEGIN:VCALENDAR
VERSION:2.0
PRODID:-//Born2Brick e.V. - ECPv6.15.20//NONSGML v1.0//EN
CALSCALE:GREGORIAN
METHOD:PUBLISH
X-WR-CALNAME:Born2Brick e.V.
X-ORIGINAL-URL:https://born2brick.de
X-WR-CALDESC:Veranstaltungen für Born2Brick e.V.
REFRESH-INTERVAL;VALUE=DURATION:PT1H
X-Robots-Tag:noindex
X-PUBLISHED-TTL:PT1H
BEGIN:VTIMEZONE
TZID:Europe/Paris
BEGIN:DAYLIGHT
TZOFFSETFROM:+0100
TZOFFSETTO:+0200
TZNAME:CEST
DTSTART:20240331T010000
END:DAYLIGHT
BEGIN:STANDARD
TZOFFSETFROM:+0200
TZOFFSETTO:+0100
TZNAME:CET
DTSTART:20241027T010000
END:STANDARD
BEGIN:DAYLIGHT
TZOFFSETFROM:+0100
TZOFFSETTO:+0200
TZNAME:CEST
DTSTART:20250330T010000
END:DAYLIGHT
BEGIN:STANDARD
TZOFFSETFROM:+0200
TZOFFSETTO:+0100
TZNAME:CET
DTSTART:20251026T010000
END:STANDARD
BEGIN:DAYLIGHT
TZOFFSETFROM:+0100
TZOFFSETTO:+0200
TZNAME:CEST
DTSTART:20260329T010000
END:DAYLIGHT
BEGIN:STANDARD
TZOFFSETFROM:+0200
TZOFFSETTO:+0100
TZNAME:CET
DTSTART:20261025T010000
END:STANDARD
END:VTIMEZONE
BEGIN:VEVENT
DTSTART;TZID=Europe/Paris:20250928T110000
DTEND;TZID=Europe/Paris:20250928T170000
DTSTAMP:20260423T010018
CREATED:20250909T190430Z
LAST-MODIFIED:20250909T190430Z
UID:2963-1759057200-1759078800@born2brick.de
SUMMARY:Familientag Museum Großauheim
DESCRIPTION:Von 11-17 Uhr findet am Sonntag\, den 28.09.2025\, im Museum Großauheim der Dampf- und Familientag statt. Neben Dampfmaschinen und Eisenbahn in Aktion werden wir mit einem LEGO-Bautisch vertreten sein. Der Eintritt ist frei – alle Infos auf den Flyern
URL:https://born2brick.de/event/familientag-museum-grossauheim/
LOCATION:Museum Großauheim\, Pfortenwingert 4\, Hanau\, Hessen\, 63457\, Germany
CATEGORIES:Bautisch
ATTACH;FMTTYPE=image/jpeg:https://born2brick.de/wp-content/uploads/2025/09/Fyler-Familentag-Programm.jpg
ORGANIZER;CN="Museum Gro%C3%9Fauheim":MAILTO:museen@hanau.de
END:VEVENT
END:VCALENDAR