BEGIN:VCALENDAR
VERSION:2.0
PRODID:-//Born2Brick e.V. - ECPv6.15.20//NONSGML v1.0//EN
CALSCALE:GREGORIAN
METHOD:PUBLISH
X-WR-CALNAME:Born2Brick e.V.
X-ORIGINAL-URL:https://born2brick.de
X-WR-CALDESC:Veranstaltungen für Born2Brick e.V.
REFRESH-INTERVAL;VALUE=DURATION:PT1H
X-Robots-Tag:noindex
X-PUBLISHED-TTL:PT1H
BEGIN:VTIMEZONE
TZID:Europe/Paris
BEGIN:DAYLIGHT
TZOFFSETFROM:+0100
TZOFFSETTO:+0200
TZNAME:CEST
DTSTART:20240331T010000
END:DAYLIGHT
BEGIN:STANDARD
TZOFFSETFROM:+0200
TZOFFSETTO:+0100
TZNAME:CET
DTSTART:20241027T010000
END:STANDARD
BEGIN:DAYLIGHT
TZOFFSETFROM:+0100
TZOFFSETTO:+0200
TZNAME:CEST
DTSTART:20250330T010000
END:DAYLIGHT
BEGIN:STANDARD
TZOFFSETFROM:+0200
TZOFFSETTO:+0100
TZNAME:CET
DTSTART:20251026T010000
END:STANDARD
BEGIN:DAYLIGHT
TZOFFSETFROM:+0100
TZOFFSETTO:+0200
TZNAME:CEST
DTSTART:20260329T010000
END:DAYLIGHT
BEGIN:STANDARD
TZOFFSETFROM:+0200
TZOFFSETTO:+0100
TZNAME:CET
DTSTART:20261025T010000
END:STANDARD
END:VTIMEZONE
BEGIN:VEVENT
DTSTART;TZID=Europe/Paris:20250926T193000
DTEND;TZID=Europe/Paris:20250926T213000
DTSTAMP:20260423T010809
CREATED:20250909T191846Z
LAST-MODIFIED:20250909T191914Z
UID:2975-1758915000-1758922200@born2brick.de
SUMMARY:Online Stammtisch
DESCRIPTION:Hallo\, \nnach der Sommerpause geht es wieder los und der nächste Online Stammtisch steht fest. Am 26. September um 19:30 Uhr können alle Interessierten wieder zusammenkommen. \nEinfach am genannten Termin dem Link folgen: \nOnline Stammtisch | Besprechung beitreten | Microsoft Teams\nViel Spaß
URL:https://born2brick.de/event/online-stammtisch-2/
LOCATION:Online in Teams\, Germany
CATEGORIES:Stammtisch
END:VEVENT
END:VCALENDAR