BEGIN:VCALENDAR
VERSION:2.0
PRODID:-//Born2Brick e.V. - ECPv6.15.20//NONSGML v1.0//EN
CALSCALE:GREGORIAN
METHOD:PUBLISH
X-ORIGINAL-URL:https://born2brick.de
X-WR-CALDESC:Veranstaltungen für Born2Brick e.V.
REFRESH-INTERVAL;VALUE=DURATION:PT1H
X-Robots-Tag:noindex
X-PUBLISHED-TTL:PT1H
BEGIN:VTIMEZONE
TZID:Europe/Paris
BEGIN:DAYLIGHT
TZOFFSETFROM:+0100
TZOFFSETTO:+0200
TZNAME:CEST
DTSTART:20230326T010000
END:DAYLIGHT
BEGIN:STANDARD
TZOFFSETFROM:+0200
TZOFFSETTO:+0100
TZNAME:CET
DTSTART:20231029T010000
END:STANDARD
BEGIN:DAYLIGHT
TZOFFSETFROM:+0100
TZOFFSETTO:+0200
TZNAME:CEST
DTSTART:20240331T010000
END:DAYLIGHT
BEGIN:STANDARD
TZOFFSETFROM:+0200
TZOFFSETTO:+0100
TZNAME:CET
DTSTART:20241027T010000
END:STANDARD
BEGIN:DAYLIGHT
TZOFFSETFROM:+0100
TZOFFSETTO:+0200
TZNAME:CEST
DTSTART:20250330T010000
END:DAYLIGHT
BEGIN:STANDARD
TZOFFSETFROM:+0200
TZOFFSETTO:+0100
TZNAME:CET
DTSTART:20251026T010000
END:STANDARD
END:VTIMEZONE
BEGIN:VEVENT
DTSTART;TZID=Europe/Paris:20241012T080000
DTEND;TZID=Europe/Paris:20241013T170000
DTSTAMP:20260423T154901
CREATED:20240312T095021Z
LAST-MODIFIED:20240312T095021Z
UID:2174-1728720000-1728838800@born2brick.de
SUMMARY:Inspiration Modellbau 2024
DESCRIPTION:
URL:https://born2brick.de/event/inspiration-modellbau-2024/
LOCATION:Ludwig-Eckes-Festhalle\, Pariser Straße 110\, Nieder-Olm\, Rheinland-Pfalz\, 55268\, Deutschland
CATEGORIES:Ausstellung
ORGANIZER;CN="Modellbauclub Mainz e.V.":MAILTO:vorstand(at)modellbauclub-mainz.de
END:VEVENT
END:VCALENDAR