BEGIN:VCALENDAR
VERSION:2.0
PRODID:-//Born2Brick e.V. - ECPv6.15.20//NONSGML v1.0//EN
CALSCALE:GREGORIAN
METHOD:PUBLISH
X-ORIGINAL-URL:https://born2brick.de
X-WR-CALDESC:Veranstaltungen für Born2Brick e.V.
REFRESH-INTERVAL;VALUE=DURATION:PT1H
X-Robots-Tag:noindex
X-PUBLISHED-TTL:PT1H
BEGIN:VTIMEZONE
TZID:Europe/Paris
BEGIN:DAYLIGHT
TZOFFSETFROM:+0100
TZOFFSETTO:+0200
TZNAME:CEST
DTSTART:20230326T010000
END:DAYLIGHT
BEGIN:STANDARD
TZOFFSETFROM:+0200
TZOFFSETTO:+0100
TZNAME:CET
DTSTART:20231029T010000
END:STANDARD
BEGIN:DAYLIGHT
TZOFFSETFROM:+0100
TZOFFSETTO:+0200
TZNAME:CEST
DTSTART:20240331T010000
END:DAYLIGHT
BEGIN:STANDARD
TZOFFSETFROM:+0200
TZOFFSETTO:+0100
TZNAME:CET
DTSTART:20241027T010000
END:STANDARD
BEGIN:DAYLIGHT
TZOFFSETFROM:+0100
TZOFFSETTO:+0200
TZNAME:CEST
DTSTART:20250330T010000
END:DAYLIGHT
BEGIN:STANDARD
TZOFFSETFROM:+0200
TZOFFSETTO:+0100
TZNAME:CET
DTSTART:20251026T010000
END:STANDARD
END:VTIMEZONE
BEGIN:VEVENT
DTSTART;TZID=Europe/Paris:20240503T160000
DTEND;TZID=Europe/Paris:20240503T200000
DTSTAMP:20260423T220353
CREATED:20231210T085453Z
LAST-MODIFIED:20231218T152703Z
UID:1877-1714752000-1714766400@born2brick.de
SUMMARY:Baunachmittag
DESCRIPTION:LEGO®-Baunachmittag im Saalbau Nied im Mainauen-Clubraum\, selbstverständlich öffentlich\, monatlich und kostenlos. \nMan sollte sich sein Klemmbausteinset zum Bauen selbst mitbringen oder kann mit den Vereins-Steinen kreativ bauen. Das Motto ist Treffen & Bauen und dabei Spaß haben. Wir freuen uns auf Deinen/Euren Besuch.
URL:https://born2brick.de/event/baunachmittag/
LOCATION:Saalbau Nied\, Heinrich-Stahl-Straße 3\, Frankfurt am Main\, Hessen\, 65934\, Deutschland
CATEGORIES:Stammtisch
ATTACH;FMTTYPE=image/jpeg:https://born2brick.de/wp-content/uploads/2023/11/WhatsApp-Bild-2023-12-18-um-16.23.43_58896cd3.jpg
END:VEVENT
END:VCALENDAR