BEGIN:VCALENDAR
VERSION:2.0
PRODID:-//Born2Brick e.V. - ECPv6.15.20//NONSGML v1.0//EN
CALSCALE:GREGORIAN
METHOD:PUBLISH
X-WR-CALNAME:Born2Brick e.V.
X-ORIGINAL-URL:https://born2brick.de
X-WR-CALDESC:Veranstaltungen für Born2Brick e.V.
REFRESH-INTERVAL;VALUE=DURATION:PT1H
X-Robots-Tag:noindex
X-PUBLISHED-TTL:PT1H
BEGIN:VTIMEZONE
TZID:Europe/Paris
BEGIN:DAYLIGHT
TZOFFSETFROM:+0100
TZOFFSETTO:+0200
TZNAME:CEST
DTSTART:20220327T010000
END:DAYLIGHT
BEGIN:STANDARD
TZOFFSETFROM:+0200
TZOFFSETTO:+0100
TZNAME:CET
DTSTART:20221030T010000
END:STANDARD
BEGIN:DAYLIGHT
TZOFFSETFROM:+0100
TZOFFSETTO:+0200
TZNAME:CEST
DTSTART:20230326T010000
END:DAYLIGHT
BEGIN:STANDARD
TZOFFSETFROM:+0200
TZOFFSETTO:+0100
TZNAME:CET
DTSTART:20231029T010000
END:STANDARD
BEGIN:DAYLIGHT
TZOFFSETFROM:+0100
TZOFFSETTO:+0200
TZNAME:CEST
DTSTART:20240331T010000
END:DAYLIGHT
BEGIN:STANDARD
TZOFFSETFROM:+0200
TZOFFSETTO:+0100
TZNAME:CET
DTSTART:20241027T010000
END:STANDARD
END:VTIMEZONE
BEGIN:VEVENT
DTSTART;TZID=Europe/Paris:20231209T100000
DTEND;TZID=Europe/Paris:20231209T180000
DTSTAMP:20260424T043136
CREATED:20230909T073128Z
LAST-MODIFIED:20230909T073128Z
UID:1447-1702116000-1702144800@born2brick.de
SUMMARY:Hannover Bricks
DESCRIPTION:
URL:https://born2brick.de/event/hannover-bricks/
LOCATION:Kulturzentrum Pavillon\, Lister Meile 4\, Hannover\, Niedersachsen\, 30161\, Deutschland
CATEGORIES:Ausstellung
END:VEVENT
BEGIN:VEVENT
DTSTART;TZID=Europe/Paris:20231209T110000
DTEND;TZID=Europe/Paris:20231209T160000
DTSTAMP:20260424T043136
CREATED:20231115T092137Z
LAST-MODIFIED:20231115T092227Z
UID:1760-1702119600-1702137600@born2brick.de
SUMMARY:LEGO® Börse Rheinbach
DESCRIPTION:
URL:https://born2brick.de/event/lego-boerse-rheinbach-2/
LOCATION:Stadthalle Rheinbach\, Villeneuver Straße 5\, Rheinbach\, Nordrhein-Westfalen\, 53359\, Deutschland
CATEGORIES:Shopping
END:VEVENT
END:VCALENDAR