BEGIN:VCALENDAR
VERSION:2.0
PRODID:-//Born2Brick e.V. - ECPv6.15.20//NONSGML v1.0//EN
CALSCALE:GREGORIAN
METHOD:PUBLISH
X-WR-CALNAME:Born2Brick e.V.
X-ORIGINAL-URL:https://born2brick.de
X-WR-CALDESC:Veranstaltungen für Born2Brick e.V.
REFRESH-INTERVAL;VALUE=DURATION:PT1H
X-Robots-Tag:noindex
X-PUBLISHED-TTL:PT1H
BEGIN:VTIMEZONE
TZID:Europe/Paris
BEGIN:DAYLIGHT
TZOFFSETFROM:+0100
TZOFFSETTO:+0200
TZNAME:CEST
DTSTART:20220327T010000
END:DAYLIGHT
BEGIN:STANDARD
TZOFFSETFROM:+0200
TZOFFSETTO:+0100
TZNAME:CET
DTSTART:20221030T010000
END:STANDARD
BEGIN:DAYLIGHT
TZOFFSETFROM:+0100
TZOFFSETTO:+0200
TZNAME:CEST
DTSTART:20230326T010000
END:DAYLIGHT
BEGIN:STANDARD
TZOFFSETFROM:+0200
TZOFFSETTO:+0100
TZNAME:CET
DTSTART:20231029T010000
END:STANDARD
BEGIN:DAYLIGHT
TZOFFSETFROM:+0100
TZOFFSETTO:+0200
TZNAME:CEST
DTSTART:20240331T010000
END:DAYLIGHT
BEGIN:STANDARD
TZOFFSETFROM:+0200
TZOFFSETTO:+0100
TZNAME:CET
DTSTART:20241027T010000
END:STANDARD
END:VTIMEZONE
BEGIN:VEVENT
DTSTART;TZID=Europe/Paris:20231112T100000
DTEND;TZID=Europe/Paris:20231112T170000
DTSTAMP:20260424T054614
CREATED:20231013T192208Z
LAST-MODIFIED:20231013T192208Z
UID:1668-1699783200-1699808400@born2brick.de
SUMMARY:35. Griesheimer Modellbahntage
DESCRIPTION:Eintritt Erwachsene: 3 €\, Kinder (6-14 Jahre) 1 €\, Familien 6 €
URL:https://born2brick.de/event/35-griesheimer-modellbahntage/
LOCATION:Saalbau Frankfurt-Griesheim\, Schwarzerlenweg/Ecke Waldschulstraße\, Frankfurt-Griesheim\, Hessen\, Deutschland
CATEGORIES:Ausstellung
END:VEVENT
BEGIN:VEVENT
DTSTART;TZID=Europe/Paris:20231112T100000
DTEND;TZID=Europe/Paris:20231112T170000
DTSTAMP:20260424T054614
CREATED:20231106T164059Z
LAST-MODIFIED:20231106T164059Z
UID:1682-1699783200-1699808400@born2brick.de
SUMMARY:LEGO® Sonderausstellung mit Börse im Kloster Machern
DESCRIPTION:
URL:https://born2brick.de/event/lego-sonderausstellung-mit-boerse-im-kloster-machern/
LOCATION:Kloster Machern\, An der Zeltinger Brücke gegenüber dem Ort Teltingen-Rachtig\, Bernkastel-Kues\, Rheinland-Pfalz\, 54470\, Deutschland
CATEGORIES:Ausstellung,Shopping
END:VEVENT
BEGIN:VEVENT
DTSTART;TZID=Europe/Paris:20231112T100000
DTEND;TZID=Europe/Paris:20231112T180000
DTSTAMP:20260424T054614
CREATED:20231109T044821Z
LAST-MODIFIED:20231109T044821Z
UID:1710-1699783200-1699812000@born2brick.de
SUMMARY:SPIELidee
DESCRIPTION:
URL:https://born2brick.de/event/spielidee-3/
LOCATION:HanseMesse Rostock\, Zur Hansemesse 1 - 2\, Rosstock\, Mecklenburg-Vorpommern\, 18106\, Deutschland
END:VEVENT
END:VCALENDAR