BEGIN:VCALENDAR
VERSION:2.0
PRODID:-//Born2Brick e.V. - ECPv6.15.20//NONSGML v1.0//EN
CALSCALE:GREGORIAN
METHOD:PUBLISH
X-WR-CALNAME:Born2Brick e.V.
X-ORIGINAL-URL:https://born2brick.de
X-WR-CALDESC:Veranstaltungen für Born2Brick e.V.
REFRESH-INTERVAL;VALUE=DURATION:PT1H
X-Robots-Tag:noindex
X-PUBLISHED-TTL:PT1H
BEGIN:VTIMEZONE
TZID:Europe/Paris
BEGIN:DAYLIGHT
TZOFFSETFROM:+0100
TZOFFSETTO:+0200
TZNAME:CEST
DTSTART:20220327T010000
END:DAYLIGHT
BEGIN:STANDARD
TZOFFSETFROM:+0200
TZOFFSETTO:+0100
TZNAME:CET
DTSTART:20221030T010000
END:STANDARD
BEGIN:DAYLIGHT
TZOFFSETFROM:+0100
TZOFFSETTO:+0200
TZNAME:CEST
DTSTART:20230326T010000
END:DAYLIGHT
BEGIN:STANDARD
TZOFFSETFROM:+0200
TZOFFSETTO:+0100
TZNAME:CET
DTSTART:20231029T010000
END:STANDARD
BEGIN:DAYLIGHT
TZOFFSETFROM:+0100
TZOFFSETTO:+0200
TZNAME:CEST
DTSTART:20240331T010000
END:DAYLIGHT
BEGIN:STANDARD
TZOFFSETFROM:+0200
TZOFFSETTO:+0100
TZNAME:CET
DTSTART:20241027T010000
END:STANDARD
END:VTIMEZONE
BEGIN:VEVENT
DTSTART;TZID=Europe/Paris:20231111T100000
DTEND;TZID=Europe/Paris:20231111T150000
DTSTAMP:20260424T054614
CREATED:20231109T045155Z
LAST-MODIFIED:20231109T045155Z
UID:1712-1699696800-1699714800@born2brick.de
SUMMARY:LEGO®-und Playmobil-Börse
DESCRIPTION:
URL:https://born2brick.de/event/lego-und-playmobil-boerse-2/
LOCATION:Markthalle Delmenhorst\, Rathausplatz 2\, Delmenhorst\, Niedersachsen\, 27749\, Deutschland
CATEGORIES:Shopping
END:VEVENT
BEGIN:VEVENT
DTSTART;TZID=Europe/Paris:20231111T100000
DTEND;TZID=Europe/Paris:20231111T180000
DTSTAMP:20260424T054614
CREATED:20230129T131028Z
LAST-MODIFIED:20231106T164007Z
UID:560-1699696800-1699725600@born2brick.de
SUMMARY:LEGO® Sonderausstellung mit Börse im Kloster Machern
DESCRIPTION:
URL:https://born2brick.de/event/kloster-machern/
LOCATION:Kloster Machern\, An der Zeltinger Brücke gegenüber dem Ort Teltingen-Rachtig\, Bernkastel-Kues\, Rheinland-Pfalz\, 54470\, Deutschland
CATEGORIES:Ausstellung
END:VEVENT
BEGIN:VEVENT
DTSTART;TZID=Europe/Paris:20231111T100000
DTEND;TZID=Europe/Paris:20231111T180000
DTSTAMP:20260424T054614
CREATED:20231109T044726Z
LAST-MODIFIED:20231109T044937Z
UID:1708-1699696800-1699725600@born2brick.de
SUMMARY:SPIELidee
DESCRIPTION:
URL:https://born2brick.de/event/spielidee-2/
LOCATION:HanseMesse Rostock\, Zur Hansemesse 1 - 2\, Rosstock\, Mecklenburg-Vorpommern\, 18106\, Deutschland
END:VEVENT
BEGIN:VEVENT
DTSTART;TZID=Europe/Paris:20231111T120000
DTEND;TZID=Europe/Paris:20231111T170000
DTSTAMP:20260424T054614
CREATED:20231013T192328Z
LAST-MODIFIED:20231013T192328Z
UID:1664-1699704000-1699722000@born2brick.de
SUMMARY:35. Griesheimer Modellbahntage
DESCRIPTION:Eintritt Erwachsene: 3 €\, Kinder (6-14 Jahre) 1 €\, Familien 6 €
URL:https://born2brick.de/event/35-griesheimer-modellbahntage-2/
LOCATION:Saalbau Frankfurt-Griesheim\, Schwarzerlenweg/Ecke Waldschulstraße\, Frankfurt-Griesheim\, Hessen\, Deutschland
CATEGORIES:Ausstellung
END:VEVENT
END:VCALENDAR