BEGIN:VCALENDAR
VERSION:2.0
PRODID:-//Born2Brick e.V. - ECPv6.15.20//NONSGML v1.0//EN
CALSCALE:GREGORIAN
METHOD:PUBLISH
X-ORIGINAL-URL:https://born2brick.de
X-WR-CALDESC:Veranstaltungen für Born2Brick e.V.
REFRESH-INTERVAL;VALUE=DURATION:PT1H
X-Robots-Tag:noindex
X-PUBLISHED-TTL:PT1H
BEGIN:VTIMEZONE
TZID:Europe/Paris
BEGIN:DAYLIGHT
TZOFFSETFROM:+0100
TZOFFSETTO:+0200
TZNAME:CEST
DTSTART:20220327T010000
END:DAYLIGHT
BEGIN:STANDARD
TZOFFSETFROM:+0200
TZOFFSETTO:+0100
TZNAME:CET
DTSTART:20221030T010000
END:STANDARD
BEGIN:DAYLIGHT
TZOFFSETFROM:+0100
TZOFFSETTO:+0200
TZNAME:CEST
DTSTART:20230326T010000
END:DAYLIGHT
BEGIN:STANDARD
TZOFFSETFROM:+0200
TZOFFSETTO:+0100
TZNAME:CET
DTSTART:20231029T010000
END:STANDARD
BEGIN:DAYLIGHT
TZOFFSETFROM:+0100
TZOFFSETTO:+0200
TZNAME:CEST
DTSTART:20240331T010000
END:DAYLIGHT
BEGIN:STANDARD
TZOFFSETFROM:+0200
TZOFFSETTO:+0100
TZNAME:CET
DTSTART:20241027T010000
END:STANDARD
END:VTIMEZONE
BEGIN:VEVENT
DTSTART;TZID=Europe/Paris:20231104T090000
DTEND;TZID=Europe/Paris:20231104T180000
DTSTAMP:20260424T054203
CREATED:20231109T043655Z
LAST-MODIFIED:20231109T044009Z
UID:1697-1699088400-1699120800@born2brick.de
SUMMARY:Bricking Bavaria
DESCRIPTION:
URL:https://born2brick.de/event/bricking-bavaria-fuerth-2/
LOCATION:Hessen
CATEGORIES:Ausstellung
END:VEVENT
BEGIN:VEVENT
DTSTART;TZID=Europe/Paris:20231104T100000
DTEND;TZID=Europe/Paris:20231104T180000
DTSTAMP:20260424T054203
CREATED:20230909T075838Z
LAST-MODIFIED:20230909T075838Z
UID:1454-1699092000-1699120800@born2brick.de
SUMMARY:Jeder Brick ist gleich II
DESCRIPTION:
URL:https://born2brick.de/event/jeder-brick-ist-gleich-ii/
LOCATION:Stadtbücherei Hameln\, Sudetenstraße 1\, Hameln\, Niedersachsen\, 31785\, Deutschland
CATEGORIES:Ausstellung
END:VEVENT
END:VCALENDAR