BEGIN:VCALENDAR
VERSION:2.0
PRODID:-//Born2Brick e.V. - ECPv6.15.20//NONSGML v1.0//EN
CALSCALE:GREGORIAN
METHOD:PUBLISH
X-WR-CALNAME:Born2Brick e.V.
X-ORIGINAL-URL:https://born2brick.de
X-WR-CALDESC:Veranstaltungen für Born2Brick e.V.
REFRESH-INTERVAL;VALUE=DURATION:PT1H
X-Robots-Tag:noindex
X-PUBLISHED-TTL:PT1H
BEGIN:VTIMEZONE
TZID:Europe/Paris
BEGIN:DAYLIGHT
TZOFFSETFROM:+0100
TZOFFSETTO:+0200
TZNAME:CEST
DTSTART:20220327T010000
END:DAYLIGHT
BEGIN:STANDARD
TZOFFSETFROM:+0200
TZOFFSETTO:+0100
TZNAME:CET
DTSTART:20221030T010000
END:STANDARD
BEGIN:DAYLIGHT
TZOFFSETFROM:+0100
TZOFFSETTO:+0200
TZNAME:CEST
DTSTART:20230326T010000
END:DAYLIGHT
BEGIN:STANDARD
TZOFFSETFROM:+0200
TZOFFSETTO:+0100
TZNAME:CET
DTSTART:20231029T010000
END:STANDARD
BEGIN:DAYLIGHT
TZOFFSETFROM:+0100
TZOFFSETTO:+0200
TZNAME:CEST
DTSTART:20240331T010000
END:DAYLIGHT
BEGIN:STANDARD
TZOFFSETFROM:+0200
TZOFFSETTO:+0100
TZNAME:CET
DTSTART:20241027T010000
END:STANDARD
END:VTIMEZONE
BEGIN:VEVENT
DTSTART;TZID=Europe/Paris:20231007T100000
DTEND;TZID=Europe/Paris:20231007T170000
DTSTAMP:20260424T071000
CREATED:20230909T110207Z
LAST-MODIFIED:20230909T110207Z
UID:1460-1696672800-1696698000@born2brick.de
SUMMARY:EMS BRICKS 2023
DESCRIPTION:
URL:https://born2brick.de/event/ems-bricks-2023/
LOCATION:Leeraner Miniaturland\, Konrad-Zuse-Straße 1\, Leer\, Niedersachsen\, 26789\, Deutschland
CATEGORIES:Ausstellung
ORGANIZER;CN="Bricks am Meer":MAILTO:webmaster@bricks-am-meer.de
END:VEVENT
BEGIN:VEVENT
DTSTART;TZID=Europe/Paris:20231007T100000
DTEND;TZID=Europe/Paris:20231007T180000
DTSTAMP:20260424T071000
CREATED:20230129T125046Z
LAST-MODIFIED:20230909T110955Z
UID:543-1696672800-1696701600@born2brick.de
SUMMARY:Berliner SteineWAHN!
DESCRIPTION:
URL:https://born2brick.de/event/berliner-steinewahn/
LOCATION:Tegeler Seeterrassen\, Wilkestraße 1\, Berlin\, Berlin-Brandenburg\, 13507\, Deutschland
CATEGORIES:Ausstellung
END:VEVENT
BEGIN:VEVENT
DTSTART;TZID=Europe/Paris:20231007T100000
DTEND;TZID=Europe/Paris:20231007T180000
DTSTAMP:20260424T071000
CREATED:20230909T112456Z
LAST-MODIFIED:20230909T112456Z
UID:1471-1696672800-1696701600@born2brick.de
SUMMARY:Hamburger Brick Börse
DESCRIPTION:
URL:https://born2brick.de/event/hamburger-brick-boerse-3/
LOCATION:Sasel-Haus\, Saseler Parkweg 3\, Hamburg\, Hamburg\, 22393
CATEGORIES:Shopping
ORGANIZER;CN="Bricks-Bramfeld Gmbh":MAILTO:info@bricks-bramfeld.de
END:VEVENT
BEGIN:VEVENT
DTSTART;TZID=Europe/Paris:20231007T110000
DTEND;TZID=Europe/Paris:20231007T160000
DTSTAMP:20260424T071000
CREATED:20230904T151139Z
LAST-MODIFIED:20230904T151901Z
UID:1438-1696676400-1696694400@born2brick.de
SUMMARY:LEGO® Börse - Schkeuditz
DESCRIPTION:
URL:https://born2brick.de/event/lego-boerse-schkeuditz-2/
LOCATION:Altes Straßenbahndepot\, Rathausplatz 9\, Schkeuditz\, Sachsen\, 04435\, Deutschland
CATEGORIES:Ausstellung
END:VEVENT
END:VCALENDAR