BEGIN:VCALENDAR
VERSION:2.0
PRODID:-//Born2Brick e.V. - ECPv6.15.20//NONSGML v1.0//EN
CALSCALE:GREGORIAN
METHOD:PUBLISH
X-ORIGINAL-URL:https://born2brick.de
X-WR-CALDESC:Veranstaltungen für Born2Brick e.V.
REFRESH-INTERVAL;VALUE=DURATION:PT1H
X-Robots-Tag:noindex
X-PUBLISHED-TTL:PT1H
BEGIN:VTIMEZONE
TZID:Europe/Paris
BEGIN:DAYLIGHT
TZOFFSETFROM:+0100
TZOFFSETTO:+0200
TZNAME:CEST
DTSTART:20220327T010000
END:DAYLIGHT
BEGIN:STANDARD
TZOFFSETFROM:+0200
TZOFFSETTO:+0100
TZNAME:CET
DTSTART:20221030T010000
END:STANDARD
BEGIN:DAYLIGHT
TZOFFSETFROM:+0100
TZOFFSETTO:+0200
TZNAME:CEST
DTSTART:20230326T010000
END:DAYLIGHT
BEGIN:STANDARD
TZOFFSETFROM:+0200
TZOFFSETTO:+0100
TZNAME:CET
DTSTART:20231029T010000
END:STANDARD
BEGIN:DAYLIGHT
TZOFFSETFROM:+0100
TZOFFSETTO:+0200
TZNAME:CEST
DTSTART:20240331T010000
END:DAYLIGHT
BEGIN:STANDARD
TZOFFSETFROM:+0200
TZOFFSETTO:+0100
TZNAME:CET
DTSTART:20241027T010000
END:STANDARD
END:VTIMEZONE
BEGIN:VEVENT
DTSTART;TZID=Europe/Paris:20230917T100000
DTEND;TZID=Europe/Paris:20230917T170000
DTSTAMP:20260424T085525
CREATED:20230831T163125Z
LAST-MODIFIED:20230831T163125Z
UID:1397-1694944800-1694970000@born2brick.de
SUMMARY:IDS Brickworld - Velen
DESCRIPTION:
URL:https://born2brick.de/event/ids-brickworld-velen-2/
LOCATION:Thesingbachhalle\, Ramsdorfer Straße 21\, Velen\, Nordrhein-Westfalen\, 46342\, Deutschland
CATEGORIES:Ausstellung
END:VEVENT
BEGIN:VEVENT
DTSTART;TZID=Europe/Paris:20230917T100000
DTEND;TZID=Europe/Paris:20230917T170000
DTSTAMP:20260424T085525
CREATED:20230831T163908Z
LAST-MODIFIED:20230831T163908Z
UID:1402-1694944800-1694970000@born2brick.de
SUMMARY:Inspiration Modellbau
DESCRIPTION:
URL:https://born2brick.de/event/inspiration-modellbau-2/
LOCATION:Ludwig-Eckes-Festhalle\, Pariser Straße 110\, Nieder-Olm\, Rheinland-Pfalz\, 55268\, Deutschland
CATEGORIES:Ausstellung
ORGANIZER;CN="Modellbauclub Mainz e.V.":MAILTO:vorstand(at)modellbauclub-mainz.de
END:VEVENT
BEGIN:VEVENT
DTSTART;TZID=Europe/Paris:20230917T110000
DTEND;TZID=Europe/Paris:20230917T170000
DTSTAMP:20260424T085525
CREATED:20230129T124111Z
LAST-MODIFIED:20230909T072158Z
UID:535-1694948400-1694970000@born2brick.de
SUMMARY:Stein auf Stein: "LEGO-Tag" und Dampfmaschinenmodell Tag
DESCRIPTION:
URL:https://born2brick.de/event/lvr-museum-euskirchen/
LOCATION:Tuchfabrik Müller\, Carl-Koenen-Straße 25\, Euskirchen\, Nordrhein-Westfalen\, 53881\, Deutschland
CATEGORIES:Ausstellung
ORGANIZER;CN="LVR Industriemuseum":MAILTO:info@kulturinfo-rheinland.de
END:VEVENT
END:VCALENDAR