BEGIN:VCALENDAR
VERSION:2.0
PRODID:-//Born2Brick e.V. - ECPv6.15.20//NONSGML v1.0//EN
CALSCALE:GREGORIAN
METHOD:PUBLISH
X-ORIGINAL-URL:https://born2brick.de
X-WR-CALDESC:Veranstaltungen für Born2Brick e.V.
REFRESH-INTERVAL;VALUE=DURATION:PT1H
X-Robots-Tag:noindex
X-PUBLISHED-TTL:PT1H
BEGIN:VTIMEZONE
TZID:Europe/Paris
BEGIN:DAYLIGHT
TZOFFSETFROM:+0100
TZOFFSETTO:+0200
TZNAME:CEST
DTSTART:20220327T010000
END:DAYLIGHT
BEGIN:STANDARD
TZOFFSETFROM:+0200
TZOFFSETTO:+0100
TZNAME:CET
DTSTART:20221030T010000
END:STANDARD
BEGIN:DAYLIGHT
TZOFFSETFROM:+0100
TZOFFSETTO:+0200
TZNAME:CEST
DTSTART:20230326T010000
END:DAYLIGHT
BEGIN:STANDARD
TZOFFSETFROM:+0200
TZOFFSETTO:+0100
TZNAME:CET
DTSTART:20231029T010000
END:STANDARD
BEGIN:DAYLIGHT
TZOFFSETFROM:+0100
TZOFFSETTO:+0200
TZNAME:CEST
DTSTART:20240331T010000
END:DAYLIGHT
BEGIN:STANDARD
TZOFFSETFROM:+0200
TZOFFSETTO:+0100
TZNAME:CET
DTSTART:20241027T010000
END:STANDARD
END:VTIMEZONE
BEGIN:VEVENT
DTSTART;TZID=Europe/Paris:20230916T090000
DTEND;TZID=Europe/Paris:20230916T210000
DTSTAMP:20260424T085540
CREATED:20230129T131902Z
LAST-MODIFIED:20230723T092038Z
UID:569-1694854800-1694898000@born2brick.de
SUMMARY:AFOL Shopping - LEGO® Brandstore
DESCRIPTION:
URL:https://born2brick.de/event/afol-shopping-lego-brandstore-3/
LOCATION:LEGO® Store Frankfurt\, Zeil 106\, Frankfurt am Main\, Hessen\, 60313\, Deutschland
CATEGORIES:Shopping
END:VEVENT
BEGIN:VEVENT
DTSTART;TZID=Europe/Paris:20230916T100000
DTEND;TZID=Europe/Paris:20230916T180000
DTSTAMP:20260424T085540
CREATED:20230129T124027Z
LAST-MODIFIED:20230831T163020Z
UID:533-1694858400-1694887200@born2brick.de
SUMMARY:IDS Brickworld - Velen
DESCRIPTION:
URL:https://born2brick.de/event/ids-brickworld-velen/
LOCATION:Thesingbachhalle\, Ramsdorfer Straße 21\, Velen\, Nordrhein-Westfalen\, 46342\, Deutschland
CATEGORIES:Ausstellung
END:VEVENT
BEGIN:VEVENT
DTSTART;TZID=Europe/Paris:20230916T100000
DTEND;TZID=Europe/Paris:20230916T180000
DTSTAMP:20260424T085540
CREATED:20230131T093344Z
LAST-MODIFIED:20230831T164022Z
UID:837-1694858400-1694887200@born2brick.de
SUMMARY:Inspiration Modellbau
DESCRIPTION:
URL:https://born2brick.de/event/inspiration-modellbau/
LOCATION:Ludwig-Eckes-Festhalle\, Pariser Straße 110\, Nieder-Olm\, Rheinland-Pfalz\, 55268\, Deutschland
CATEGORIES:Ausstellung
ORGANIZER;CN="Modellbauclub Mainz e.V.":MAILTO:vorstand(at)modellbauclub-mainz.de
END:VEVENT
END:VCALENDAR