BEGIN:VCALENDAR
VERSION:2.0
PRODID:-//Born2Brick e.V. - ECPv6.15.20//NONSGML v1.0//EN
CALSCALE:GREGORIAN
METHOD:PUBLISH
X-ORIGINAL-URL:https://born2brick.de
X-WR-CALDESC:Veranstaltungen für Born2Brick e.V.
REFRESH-INTERVAL;VALUE=DURATION:PT1H
X-Robots-Tag:noindex
X-PUBLISHED-TTL:PT1H
BEGIN:VTIMEZONE
TZID:Europe/Paris
BEGIN:DAYLIGHT
TZOFFSETFROM:+0100
TZOFFSETTO:+0200
TZNAME:CEST
DTSTART:20220327T010000
END:DAYLIGHT
BEGIN:STANDARD
TZOFFSETFROM:+0200
TZOFFSETTO:+0100
TZNAME:CET
DTSTART:20221030T010000
END:STANDARD
BEGIN:DAYLIGHT
TZOFFSETFROM:+0100
TZOFFSETTO:+0200
TZNAME:CEST
DTSTART:20230326T010000
END:DAYLIGHT
BEGIN:STANDARD
TZOFFSETFROM:+0200
TZOFFSETTO:+0100
TZNAME:CET
DTSTART:20231029T010000
END:STANDARD
BEGIN:DAYLIGHT
TZOFFSETFROM:+0100
TZOFFSETTO:+0200
TZNAME:CEST
DTSTART:20240331T010000
END:DAYLIGHT
BEGIN:STANDARD
TZOFFSETFROM:+0200
TZOFFSETTO:+0100
TZNAME:CET
DTSTART:20241027T010000
END:STANDARD
END:VTIMEZONE
BEGIN:VEVENT
DTSTART;TZID=Europe/Paris:20230820T100000
DTEND;TZID=Europe/Paris:20230820T180000
DTSTAMP:20260424T103201
CREATED:20230806T112759Z
LAST-MODIFIED:20230806T112759Z
UID:1384-1692525600-1692554400@born2brick.de
SUMMARY:Brick's @nd Friends
DESCRIPTION:Eintritt:\nFamilie: 23\,00 € (2 Erwachsene\, 2 Kinder)\nKinder: 5\,00 € (3 bis 12 Jahre)\nErwachsene: 9\,00 €
URL:https://born2brick.de/event/bricks-nd-friends-2/
LOCATION:Motorworld Köln\, Butzweilerstraße 35 - 39\, Köln\, Nordrhein-Westfalen\, 50829\, Deutschland
CATEGORIES:Ausstellung
END:VEVENT
END:VCALENDAR