BEGIN:VCALENDAR
VERSION:2.0
PRODID:-//Born2Brick e.V. - ECPv6.15.20//NONSGML v1.0//EN
CALSCALE:GREGORIAN
METHOD:PUBLISH
X-WR-CALNAME:Born2Brick e.V.
X-ORIGINAL-URL:https://born2brick.de
X-WR-CALDESC:Veranstaltungen für Born2Brick e.V.
REFRESH-INTERVAL;VALUE=DURATION:PT1H
X-Robots-Tag:noindex
X-PUBLISHED-TTL:PT1H
BEGIN:VTIMEZONE
TZID:Europe/Paris
BEGIN:DAYLIGHT
TZOFFSETFROM:+0100
TZOFFSETTO:+0200
TZNAME:CEST
DTSTART:20220327T010000
END:DAYLIGHT
BEGIN:STANDARD
TZOFFSETFROM:+0200
TZOFFSETTO:+0100
TZNAME:CET
DTSTART:20221030T010000
END:STANDARD
BEGIN:DAYLIGHT
TZOFFSETFROM:+0100
TZOFFSETTO:+0200
TZNAME:CEST
DTSTART:20230326T010000
END:DAYLIGHT
BEGIN:STANDARD
TZOFFSETFROM:+0200
TZOFFSETTO:+0100
TZNAME:CET
DTSTART:20231029T010000
END:STANDARD
BEGIN:DAYLIGHT
TZOFFSETFROM:+0100
TZOFFSETTO:+0200
TZNAME:CEST
DTSTART:20240331T010000
END:DAYLIGHT
BEGIN:STANDARD
TZOFFSETFROM:+0200
TZOFFSETTO:+0100
TZNAME:CET
DTSTART:20241027T010000
END:STANDARD
END:VTIMEZONE
BEGIN:VEVENT
DTSTART;TZID=Europe/Paris:20230819T100000
DTEND;TZID=Europe/Paris:20230819T180000
DTSTAMP:20260424T102542
CREATED:20230129T122722Z
LAST-MODIFIED:20230806T112442Z
UID:521-1692439200-1692468000@born2brick.de
SUMMARY:Brick's @nd Friends
DESCRIPTION:Eintritt:\nFamilie: 23\,00 € (2 Erwachsene\, 2 Kinder)\nKinder: 5\,00 € (3 bis 12 Jahre)\nErwachsene: 9\,00 €
URL:https://born2brick.de/event/bricks-nd-friends/
LOCATION:Motorworld Köln\, Butzweilerstraße 35 - 39\, Köln\, Nordrhein-Westfalen\, 50829\, Deutschland
CATEGORIES:Ausstellung
END:VEVENT
BEGIN:VEVENT
DTSTART;TZID=Europe/Paris:20230819T100000
DTEND;TZID=Europe/Paris:20230819T200000
DTSTAMP:20260424T102542
CREATED:20230129T122527Z
LAST-MODIFIED:20230130T105113Z
UID:519-1692439200-1692475200@born2brick.de
SUMMARY:JB's LEGO® Star Wars™ Days 2023
DESCRIPTION:afo
URL:https://born2brick.de/event/jbs-lego-star-wars-days-2023-2/
LOCATION:JB Spielwaren\, Briefangstraße 79\, Oberhausen\, Nordrhein-Westfalen\, 46149\, Deutschland
CATEGORIES:Shopping
END:VEVENT
END:VCALENDAR