BEGIN:VCALENDAR
VERSION:2.0
PRODID:-//Born2Brick e.V. - ECPv6.15.20//NONSGML v1.0//EN
CALSCALE:GREGORIAN
METHOD:PUBLISH
X-ORIGINAL-URL:https://born2brick.de
X-WR-CALDESC:Veranstaltungen für Born2Brick e.V.
REFRESH-INTERVAL;VALUE=DURATION:PT1H
X-Robots-Tag:noindex
X-PUBLISHED-TTL:PT1H
BEGIN:VTIMEZONE
TZID:Europe/Paris
BEGIN:DAYLIGHT
TZOFFSETFROM:+0100
TZOFFSETTO:+0200
TZNAME:CEST
DTSTART:20220327T010000
END:DAYLIGHT
BEGIN:STANDARD
TZOFFSETFROM:+0200
TZOFFSETTO:+0100
TZNAME:CET
DTSTART:20221030T010000
END:STANDARD
BEGIN:DAYLIGHT
TZOFFSETFROM:+0100
TZOFFSETTO:+0200
TZNAME:CEST
DTSTART:20230326T010000
END:DAYLIGHT
BEGIN:STANDARD
TZOFFSETFROM:+0200
TZOFFSETTO:+0100
TZNAME:CET
DTSTART:20231029T010000
END:STANDARD
BEGIN:DAYLIGHT
TZOFFSETFROM:+0100
TZOFFSETTO:+0200
TZNAME:CEST
DTSTART:20240331T010000
END:DAYLIGHT
BEGIN:STANDARD
TZOFFSETFROM:+0200
TZOFFSETTO:+0100
TZNAME:CET
DTSTART:20241027T010000
END:STANDARD
END:VTIMEZONE
BEGIN:VEVENT
DTSTART;TZID=Europe/Paris:20230723T100000
DTEND;TZID=Europe/Paris:20230723T160000
DTSTAMP:20260424T121938
CREATED:20230506T081840Z
LAST-MODIFIED:20230703T123321Z
UID:1225-1690106400-1690128000@born2brick.de
SUMMARY:Kinderfest im historischen Bahnbetriebswerk Hanau
DESCRIPTION:Im Rahmen der “Route der Industriekultur Junior” öffnet Museum Eisenbahn e. V. am 23. Juli (10 -16 Uhr) die Tore speziell für Familien. \nKleine und großen Besucher erhalten einen Einblick in die Zeit der Dampflokomotiven. \nEs werden verschiedene Mitmach-Stationen zu erleben sein. Lasst euch überraschen! \n2023_Plakat_Kinderfest im historischen Bahnbetriebswerk Hanau
URL:https://born2brick.de/event/kinderfest-im-historischen-bahnbetriebswerk-hanau/
LOCATION:Historisches Bahnbetriebswerk Hanau\, Heideäcker 1\, Hanau-Großauheim\, Hessen\, 63457\, Deutschland
CATEGORIES:Sonstige
ATTACH;FMTTYPE=image/jpeg:https://born2brick.de/wp-content/uploads/2023/05/WhatsApp-Bild-2023-07-03-um-14.02.56.jpg
ORGANIZER;CN="museumseisenbahn-hanau":MAILTO:junior@museumseisenbahn-hanau.de
END:VEVENT
END:VCALENDAR