BEGIN:VCALENDAR
VERSION:2.0
PRODID:-//Born2Brick e.V. - ECPv6.15.20//NONSGML v1.0//EN
CALSCALE:GREGORIAN
METHOD:PUBLISH
X-WR-CALNAME:Born2Brick e.V.
X-ORIGINAL-URL:https://born2brick.de
X-WR-CALDESC:Veranstaltungen für Born2Brick e.V.
REFRESH-INTERVAL;VALUE=DURATION:PT1H
X-Robots-Tag:noindex
X-PUBLISHED-TTL:PT1H
BEGIN:VTIMEZONE
TZID:Europe/Paris
BEGIN:DAYLIGHT
TZOFFSETFROM:+0100
TZOFFSETTO:+0200
TZNAME:CEST
DTSTART:20220327T010000
END:DAYLIGHT
BEGIN:STANDARD
TZOFFSETFROM:+0200
TZOFFSETTO:+0100
TZNAME:CET
DTSTART:20221030T010000
END:STANDARD
BEGIN:DAYLIGHT
TZOFFSETFROM:+0100
TZOFFSETTO:+0200
TZNAME:CEST
DTSTART:20230326T010000
END:DAYLIGHT
BEGIN:STANDARD
TZOFFSETFROM:+0200
TZOFFSETTO:+0100
TZNAME:CET
DTSTART:20231029T010000
END:STANDARD
BEGIN:DAYLIGHT
TZOFFSETFROM:+0100
TZOFFSETTO:+0200
TZNAME:CEST
DTSTART:20240331T010000
END:DAYLIGHT
BEGIN:STANDARD
TZOFFSETFROM:+0200
TZOFFSETTO:+0100
TZNAME:CET
DTSTART:20241027T010000
END:STANDARD
END:VTIMEZONE
BEGIN:VEVENT
DTSTART;VALUE=DATE:20230513
DTEND;VALUE=DATE:20230515
DTSTAMP:20260424T151252
CREATED:20230129T102049Z
LAST-MODIFIED:20230130T105644Z
UID:474-1683936000-1684108799@born2brick.de
SUMMARY:Technikwelt - Leipzig
DESCRIPTION:
URL:https://born2brick.de/event/technikwelt-leipzig/
LOCATION:Hessen
CATEGORIES:Ausstellung
END:VEVENT
BEGIN:VEVENT
DTSTART;TZID=Europe/Paris:20230514T100000
DTEND;TZID=Europe/Paris:20230514T160000
DTSTAMP:20260424T151252
CREATED:20230129T103034Z
LAST-MODIFIED:20230203T095240Z
UID:478-1684058400-1684080000@born2brick.de
SUMMARY:Bricks and Friends Börse 2023
DESCRIPTION:
URL:https://born2brick.de/event/bricks-and-friends-boerse/
LOCATION:Motorworld Köln\, Butzweilerstraße 35 - 39\, Köln\, Nordrhein-Westfalen\, 50829\, Deutschland
CATEGORIES:Shopping
END:VEVENT
END:VCALENDAR