BEGIN:VCALENDAR
VERSION:2.0
PRODID:-//Born2Brick e.V. - ECPv6.15.20//NONSGML v1.0//EN
CALSCALE:GREGORIAN
METHOD:PUBLISH
X-ORIGINAL-URL:https://born2brick.de
X-WR-CALDESC:Veranstaltungen für Born2Brick e.V.
REFRESH-INTERVAL;VALUE=DURATION:PT1H
X-Robots-Tag:noindex
X-PUBLISHED-TTL:PT1H
BEGIN:VTIMEZONE
TZID:Europe/Paris
BEGIN:DAYLIGHT
TZOFFSETFROM:+0100
TZOFFSETTO:+0200
TZNAME:CEST
DTSTART:20220327T010000
END:DAYLIGHT
BEGIN:STANDARD
TZOFFSETFROM:+0200
TZOFFSETTO:+0100
TZNAME:CET
DTSTART:20221030T010000
END:STANDARD
BEGIN:DAYLIGHT
TZOFFSETFROM:+0100
TZOFFSETTO:+0200
TZNAME:CEST
DTSTART:20230326T010000
END:DAYLIGHT
BEGIN:STANDARD
TZOFFSETFROM:+0200
TZOFFSETTO:+0100
TZNAME:CET
DTSTART:20231029T010000
END:STANDARD
BEGIN:DAYLIGHT
TZOFFSETFROM:+0100
TZOFFSETTO:+0200
TZNAME:CEST
DTSTART:20240331T010000
END:DAYLIGHT
BEGIN:STANDARD
TZOFFSETFROM:+0200
TZOFFSETTO:+0100
TZNAME:CET
DTSTART:20241027T010000
END:STANDARD
END:VTIMEZONE
BEGIN:VEVENT
DTSTART;TZID=Europe/Paris:20230430T100000
DTEND;TZID=Europe/Paris:20230430T160000
DTSTAMP:20260424T164504
CREATED:20230408T075013Z
LAST-MODIFIED:20230408T075013Z
UID:1122-1682848800-1682870400@born2brick.de
SUMMARY:Ausstellung - Modellbahn aus LEGO®-Steinen
DESCRIPTION:
URL:https://born2brick.de/event/ausstellung-modellbahn-aus-lego-steinen/
LOCATION:Neubornhalle\, Jahnstraße 15\, Wörrstadt\, Rheinland-Pfalz\, 55286\, Deutschland
CATEGORIES:Ausstellung
END:VEVENT
BEGIN:VEVENT
DTSTART;TZID=Europe/Paris:20230430T100000
DTEND;TZID=Europe/Paris:20230430T180000
DTSTAMP:20260424T164504
CREATED:20230317T045230Z
LAST-MODIFIED:20230317T045230Z
UID:1069-1682848800-1682877600@born2brick.de
SUMMARY:Schwarzwälder Klötzlestage
DESCRIPTION:
URL:https://born2brick.de/event/schwarzwaelder-kloetzlestage-2/
LOCATION:Forum König-Karls-Bad\, 75323 Bad Wildbad\, Forum König-Karls-Bad\, Bad Wildbad\, Baden-Württemberg\, 75323\, Deutschland
CATEGORIES:Ausstellung
END:VEVENT
BEGIN:VEVENT
DTSTART;TZID=Europe/Paris:20230430T110000
DTEND;TZID=Europe/Paris:20230430T160000
DTSTAMP:20260424T164504
CREATED:20230128T191702Z
LAST-MODIFIED:20230201T094659Z
UID:463-1682852400-1682870400@born2brick.de
SUMMARY:LEGO® Börse
DESCRIPTION:
URL:https://born2brick.de/event/lego-boerse/
LOCATION:Stadthalle Rheinbach\, Villeneuver Straße 5\, Rheinbach\, Nordrhein-Westfalen\, 53359\, Deutschland
CATEGORIES:Shopping
END:VEVENT
BEGIN:VEVENT
DTSTART;TZID=Europe/Paris:20230430T170000
DTEND;TZID=Europe/Paris:20230430T235900
DTSTAMP:20260424T164504
CREATED:20230129T101533Z
LAST-MODIFIED:20230429T135330Z
UID:466-1682874000-1682899140@born2brick.de
SUMMARY:Grillevent mit Lauter Steine e.V.
DESCRIPTION:Die RLUG Lauter Steine e.V. freuen sich auf einen schönen Tag mit uns.
URL:https://born2brick.de/event/grillevent-mit-lauter-steine-e-v/
LOCATION:Hessen
CATEGORIES:Stammtisch,Versammlung
ORGANIZER;CN="Lauter Steine e.V.":MAILTO:info@lautersteine.de
END:VEVENT
END:VCALENDAR