BEGIN:VCALENDAR
VERSION:2.0
PRODID:-//Born2Brick e.V. - ECPv6.15.20//NONSGML v1.0//EN
CALSCALE:GREGORIAN
METHOD:PUBLISH
X-ORIGINAL-URL:https://born2brick.de
X-WR-CALDESC:Veranstaltungen für Born2Brick e.V.
REFRESH-INTERVAL;VALUE=DURATION:PT1H
X-Robots-Tag:noindex
X-PUBLISHED-TTL:PT1H
BEGIN:VTIMEZONE
TZID:Europe/Paris
BEGIN:DAYLIGHT
TZOFFSETFROM:+0100
TZOFFSETTO:+0200
TZNAME:CEST
DTSTART:20220327T010000
END:DAYLIGHT
BEGIN:STANDARD
TZOFFSETFROM:+0200
TZOFFSETTO:+0100
TZNAME:CET
DTSTART:20221030T010000
END:STANDARD
BEGIN:DAYLIGHT
TZOFFSETFROM:+0100
TZOFFSETTO:+0200
TZNAME:CEST
DTSTART:20230326T010000
END:DAYLIGHT
BEGIN:STANDARD
TZOFFSETFROM:+0200
TZOFFSETTO:+0100
TZNAME:CET
DTSTART:20231029T010000
END:STANDARD
BEGIN:DAYLIGHT
TZOFFSETFROM:+0100
TZOFFSETTO:+0200
TZNAME:CEST
DTSTART:20240331T010000
END:DAYLIGHT
BEGIN:STANDARD
TZOFFSETFROM:+0200
TZOFFSETTO:+0100
TZNAME:CET
DTSTART:20241027T010000
END:STANDARD
END:VTIMEZONE
BEGIN:VEVENT
DTSTART;TZID=Europe/Paris:20230429T100000
DTEND;TZID=Europe/Paris:20230429T170000
DTSTAMP:20260424T180519
CREATED:20230128T191413Z
LAST-MODIFIED:20230408T075136Z
UID:461-1682762400-1682787600@born2brick.de
SUMMARY:Ausstellung - Modellbahn aus LEGO®-Steinen
DESCRIPTION:
URL:https://born2brick.de/event/noppenbahner-spur-l-treffen-woerrstadt-bei-mainz/
LOCATION:Neubornhalle\, Jahnstraße 15\, Wörrstadt\, Rheinland-Pfalz\, 55286\, Deutschland
CATEGORIES:Ausstellung
END:VEVENT
BEGIN:VEVENT
DTSTART;TZID=Europe/Paris:20230429T120000
DTEND;TZID=Europe/Paris:20230429T180000
DTSTAMP:20260424T180519
CREATED:20230317T045115Z
LAST-MODIFIED:20230317T045115Z
UID:1066-1682769600-1682791200@born2brick.de
SUMMARY:Schwarzwälder Klötzlestage
DESCRIPTION:
URL:https://born2brick.de/event/schwarzwaelder-kloetzlestage/
LOCATION:Forum König-Karls-Bad\, 75323 Bad Wildbad\, Forum König-Karls-Bad\, Bad Wildbad\, Baden-Württemberg\, 75323\, Deutschland
CATEGORIES:Ausstellung
END:VEVENT
END:VCALENDAR