BEGIN:VCALENDAR
VERSION:2.0
PRODID:-//Born2Brick e.V. - ECPv6.15.20//NONSGML v1.0//EN
CALSCALE:GREGORIAN
METHOD:PUBLISH
X-ORIGINAL-URL:https://born2brick.de
X-WR-CALDESC:Veranstaltungen für Born2Brick e.V.
REFRESH-INTERVAL;VALUE=DURATION:PT1H
X-Robots-Tag:noindex
X-PUBLISHED-TTL:PT1H
BEGIN:VTIMEZONE
TZID:Europe/Paris
BEGIN:DAYLIGHT
TZOFFSETFROM:+0100
TZOFFSETTO:+0200
TZNAME:CEST
DTSTART:20220327T010000
END:DAYLIGHT
BEGIN:STANDARD
TZOFFSETFROM:+0200
TZOFFSETTO:+0100
TZNAME:CET
DTSTART:20221030T010000
END:STANDARD
BEGIN:DAYLIGHT
TZOFFSETFROM:+0100
TZOFFSETTO:+0200
TZNAME:CEST
DTSTART:20230326T010000
END:DAYLIGHT
BEGIN:STANDARD
TZOFFSETFROM:+0200
TZOFFSETTO:+0100
TZNAME:CET
DTSTART:20231029T010000
END:STANDARD
BEGIN:DAYLIGHT
TZOFFSETFROM:+0100
TZOFFSETTO:+0200
TZNAME:CEST
DTSTART:20240331T010000
END:DAYLIGHT
BEGIN:STANDARD
TZOFFSETFROM:+0200
TZOFFSETTO:+0100
TZNAME:CET
DTSTART:20241027T010000
END:STANDARD
END:VTIMEZONE
BEGIN:VEVENT
DTSTART;TZID=Europe/Paris:20230423T090000
DTEND;TZID=Europe/Paris:20230423T170000
DTSTAMP:20260424T164458
CREATED:20230207T100242Z
LAST-MODIFIED:20230207T100242Z
UID:952-1682240400-1682269200@born2brick.de
SUMMARY:LEGO® Fan Ausstellung des MBFR
DESCRIPTION:
URL:https://born2brick.de/event/lego-fan-ausstellung-des-mbfr-3/
LOCATION:Messe Dortmund GmbH / Halle 8\, Strobelallee 45\, Dortmund\, Nordrhein-Westfalen\, 44139\, Deutschland
CATEGORIES:Ausstellung
END:VEVENT
BEGIN:VEVENT
DTSTART;TZID=Europe/Paris:20230423T093000
DTEND;TZID=Europe/Paris:20230423T170000
DTSTAMP:20260424T164458
CREATED:20230128T191047Z
LAST-MODIFIED:20230130T105724Z
UID:459-1682242200-1682269200@born2brick.de
SUMMARY:SteinHanse
DESCRIPTION:
URL:https://born2brick.de/event/steinhanse-2/
LOCATION:Marschweg 18\, 24568 Kaltenkirchen\, Deutschland\, Marschweg 8\, Kaltenkirchen\, Schleswig-Holstein\, 24568\, Deutschland
CATEGORIES:Ausstellung
END:VEVENT
END:VCALENDAR