BEGIN:VCALENDAR
VERSION:2.0
PRODID:-//Born2Brick e.V. - ECPv6.15.20//NONSGML v1.0//EN
CALSCALE:GREGORIAN
METHOD:PUBLISH
X-WR-CALNAME:Born2Brick e.V.
X-ORIGINAL-URL:https://born2brick.de
X-WR-CALDESC:Veranstaltungen für Born2Brick e.V.
REFRESH-INTERVAL;VALUE=DURATION:PT1H
X-Robots-Tag:noindex
X-PUBLISHED-TTL:PT1H
BEGIN:VTIMEZONE
TZID:Europe/Paris
BEGIN:DAYLIGHT
TZOFFSETFROM:+0100
TZOFFSETTO:+0200
TZNAME:CEST
DTSTART:20220327T010000
END:DAYLIGHT
BEGIN:STANDARD
TZOFFSETFROM:+0200
TZOFFSETTO:+0100
TZNAME:CET
DTSTART:20221030T010000
END:STANDARD
BEGIN:DAYLIGHT
TZOFFSETFROM:+0100
TZOFFSETTO:+0200
TZNAME:CEST
DTSTART:20230326T010000
END:DAYLIGHT
BEGIN:STANDARD
TZOFFSETFROM:+0200
TZOFFSETTO:+0100
TZNAME:CET
DTSTART:20231029T010000
END:STANDARD
BEGIN:DAYLIGHT
TZOFFSETFROM:+0100
TZOFFSETTO:+0200
TZNAME:CEST
DTSTART:20240331T010000
END:DAYLIGHT
BEGIN:STANDARD
TZOFFSETFROM:+0200
TZOFFSETTO:+0100
TZNAME:CET
DTSTART:20241027T010000
END:STANDARD
END:VTIMEZONE
BEGIN:VEVENT
DTSTART;TZID=Europe/Paris:20230211T100000
DTEND;TZID=Europe/Paris:20230211T180000
DTSTAMP:20260424T191740
CREATED:20230128T023343Z
LAST-MODIFIED:20230130T105959Z
UID:303-1676109600-1676138400@born2brick.de
SUMMARY:Hersbrucks Bunte Steine
DESCRIPTION:Viele tolle LEGO® Modelle zum Bestaunen aus den unterschiedlichsten Bereichen für Jung und Alt.
URL:https://born2brick.de/event/hersbrucks-bunte-steine/
LOCATION:Selnecker Haus\, Nikolaus-Selnecker-Platz 6\, Hersbruck\, Bayern\, 91217
CATEGORIES:Ausstellung
END:VEVENT
BEGIN:VEVENT
DTSTART;TZID=Europe/Paris:20230211T100000
DTEND;TZID=Europe/Paris:20230211T200000
DTSTAMP:20260424T191740
CREATED:20230128T023246Z
LAST-MODIFIED:20230130T105954Z
UID:244-1676109600-1676145600@born2brick.de
SUMMARY:Klemmbausteine Jahrmarkt in Panarbora
DESCRIPTION:Auf einer Gesamtlänge von 20 Metern und mit viel Liebe zum Detail präsentieren insgesamt acht Modellbauer aus ganz Nordrhein-Westfalen\, was mit den berühmten bunten Steinen möglich und machbar ist. Unzählige motorisierte und mit Lichteffekten ausgestattete Miniatur-Fahrgeschäfte\, Verkaufswagen und Attraktionen zeigen erstmalig eine zusammenhängende Volksfestlandschaft mit allem\, was dazu gehört.
URL:https://born2brick.de/event/klemmbausteine-jahrmarkt-in-panarbora/
LOCATION:Naturerlebnispark Panarbora\, Nutscheidstraße 1\, Waldbröl\, Nordrhein Westfalen\, 51545\, Deutschland
CATEGORIES:Ausstellung
END:VEVENT
BEGIN:VEVENT
DTSTART;TZID=Europe/Paris:20230211T110000
DTEND;TZID=Europe/Paris:20230211T180000
DTSTAMP:20260424T191740
CREATED:20230201T101936Z
LAST-MODIFIED:20230201T102239Z
UID:911-1676113200-1676138400@born2brick.de
SUMMARY:Modellbahn Ausstellung
DESCRIPTION:mit einer LEGO®-Bahn zum anfassen und Spielen für die kleinen Modellbaufans.
URL:https://born2brick.de/event/modellbahn-ausstellung/
LOCATION:Johannes-Keppler-Gymnasium / Leonberg\, Lindenstraße 4\, Leonberg\, Baden-Würtemberg\, 71229\, Deutschland
CATEGORIES:Ausstellung
END:VEVENT
END:VCALENDAR